BEGIN:VCALENDAR
VERSION:2.0
CALSCALE:GREGORIAN
PRODID:adamgibbons/ics
METHOD:PUBLISH
X-PUBLISHED-TTL:PT1H
BEGIN:VEVENT
UID:611@event.cologne
SUMMARY:Das Thekengespräch im mittendrin
DTSTAMP:20260420T163711Z
DTSTART:20260420T170000Z
DTEND:20260420T183000Z
URL:https://event.cologne/event/das-thekengesprach-im-mittendrin
GEO:50.8844;7.057
LOCATION:mittendrin – Katholisch in Porz - Friedrich-Ebert-Platz 3\, 51143 
	Köln
STATUS:CONFIRMED
CATEGORIES:Porz,Wortveranstaltung
END:VEVENT
BEGIN:VEVENT
UID:263@event.cologne
SUMMARY:Veedelstreff mit dem Ordnungsamt
DTSTAMP:20260420T163711Z
DTSTART:20260421T080000Z
DTEND:20260421T110000Z
URL:https://event.cologne/event/veedelstreff-mit-dem-ordnungsamt-2
GEO:50.9189;6.91897
LOCATION:Wochenmarkt Sülz - Auerbachplatz - Auerbachplatz \, 50937 Köln
STATUS:CONFIRMED
CATEGORIES:EintrittFrei,Lindenthal,Wortveranstaltung
END:VEVENT
BEGIN:VEVENT
UID:464@event.cologne
SUMMARY:Köln hört zu!
DTSTAMP:20260420T163711Z
DTSTART:20260423T090000Z
DTEND:20260423T103000Z
URL:https://event.cologne/event/koln-hort-zu-10
GEO:50.9371;6.95656
LOCATION:Interim Zentralbibliothek - Hohe Straße 68-82\, 50667 Köln
STATUS:CONFIRMED
CATEGORIES:EintrittFrei,Innenstadt,Wortveranstaltung
END:VEVENT
BEGIN:VEVENT
UID:653@event.cologne
SUMMARY:Psychose-Forum – Erfahrungen in und mit der Psychiatrie
DTSTAMP:20260420T163711Z
DTSTART:20260423T150000Z
DTEND:20260423T170000Z
URL:https://event.cologne/event/psychose-forum-erfahrungen-in-und-mit-der-p
	sychiatrie
GEO:50.935;6.9499
LOCATION:VHS-Studienhaus am Neumarkt - Cäcilienstraße 35\, 50667 Köln
STATUS:CONFIRMED
CATEGORIES:Innenstadt,Wortveranstaltung
END:VEVENT
BEGIN:VEVENT
UID:720@event.cologne
SUMMARY:Erfahrungsaustausch: (Nicht?-)lesbische und (nicht?-)religiöse Sich
	tbarkeit
DTSTAMP:20260420T163711Z
DTSTART:20260502T130000Z
DTEND:20260502T143000Z
URL:https://event.cologne/event/erfahrungsaustausch-nicht-lesbische-und-nic
	ht-religiose-sichtbarkeit
LOCATION:Metropolitan Community Church (MCC) Köln e. V. - Gremberger Straße
	  68 (Hinterhof)\, 51105 Köln
STATUS:CONFIRMED
CATEGORIES:Kalk,Wortveranstaltung
END:VEVENT
BEGIN:VEVENT
UID:703@event.cologne
SUMMARY:Werkstatt für das Winzer- und Pantaleonsveedel
DTSTAMP:20260420T163711Z
DTSTART:20260503T220000Z
DTEND:20260503T220000Z
URL:https://event.cologne/event/werkstatt-fur-das-winzer-und-pantaleonsveed
	el
LOCATION:Aula des Friedrich-Wilhelm-Gymnasiums - Severinstraße 241\, 50676 
	Köln
STATUS:CONFIRMED
CATEGORIES:EintrittFrei,Innenstadt,Wortveranstaltung
END:VEVENT
BEGIN:VEVENT
UID:465@event.cologne
SUMMARY:Veedelstreff mit dem Ordnungsamt
DTSTAMP:20260420T163711Z
DTSTART:20260507T080000Z
DTEND:20260507T110000Z
URL:https://event.cologne/event/veedelstreff-mit-dem-ordnungsamt-3
LOCATION:Wochenmarkt Chorweiler - Liverpooler Platz \,  50765 Köln
STATUS:CONFIRMED
CATEGORIES:Chorweiler,EintrittFrei,Wortveranstaltung
END:VEVENT
BEGIN:VEVENT
UID:654@event.cologne
SUMMARY:Veedelstreff mit dem Ordnungsamt
DTSTAMP:20260420T163711Z
DTSTART:20260521T080000Z
DTEND:20260521T110000Z
URL:https://event.cologne/event/veedelstreff-mit-dem-ordnungsamt-4
LOCATION:Wochenmarkt Neubrück - An Sankt Adelheid \, 51109 Köln
STATUS:CONFIRMED
CATEGORIES:EintrittFrei,Kalk,Wortveranstaltung
END:VEVENT
BEGIN:VEVENT
UID:722@event.cologne
SUMMARY:Veedelstreff mit dem Ordnungsamt
DTSTAMP:20260420T163711Z
DTSTART:20260603T080000Z
DTEND:20260603T110000Z
URL:https://event.cologne/event/veedelstreff-mit-dem-ordnungsamt-5
LOCATION:Wochenmarkt Longerich - Gartenstadt Nord/Schlackstraße/Johannes-Ri
	ngs-Straße None\, 50737 Köln
STATUS:CONFIRMED
CATEGORIES:EintrittFrei,Nippes,Wortveranstaltung
END:VEVENT
END:VCALENDAR
