BEGIN:VCALENDAR
VERSION:2.0
CALSCALE:GREGORIAN
PRODID:adamgibbons/ics
METHOD:PUBLISH
X-PUBLISHED-TTL:PT1H
BEGIN:VEVENT
UID:185@event.cologne
SUMMARY:Reingelegt und abgezockt!
DTSTAMP:20260420T181536Z
DTSTART:20260422T120000Z
DTEND:20260422T130000Z
URL:https://event.cologne/event/reingelegt-und-abgezockt-1
LOCATION:Rathaussaal Porz - Alfred-Moritz-Platz  1\, 51143 Köln
STATUS:CONFIRMED
CATEGORIES:Porz,Theater
END:VEVENT
BEGIN:VEVENT
UID:430@event.cologne
SUMMARY:Der Vorname – Theaterkomödie
DTSTAMP:20260420T181536Z
DTSTART:20260425T170000Z
DTEND:20260425T200000Z
URL:https://event.cologne/event/der-vorname-theaterkomodie
LOCATION:Rathaussaal Porz - Alfred-Moritz-Platz  1\, 51143 Köln
STATUS:CONFIRMED
CATEGORIES:Porz,Theater
END:VEVENT
BEGIN:VEVENT
UID:641@event.cologne
SUMMARY:Kindertheater: Die Bremer Stadtmusikanten – oder wie man Räuber bes
	iegt
DTSTAMP:20260420T181536Z
DTSTART:20260505T170000Z
DTEND:20260505T200000Z
URL:https://event.cologne/event/kindertheater-die-bremer-stadtmusikanten-od
	er-wie-man-rauber-besiegt
LOCATION:Rathaussaal Porz - Alfred-Moritz-Platz  1\, 51143 Köln
STATUS:CONFIRMED
CATEGORIES:Porz,Theater
END:VEVENT
BEGIN:VEVENT
UID:603@event.cologne
SUMMARY:Reingelegt und abgezockt!
DTSTAMP:20260420T181536Z
DTSTART:20260519T120000Z
DTEND:20260519T130000Z
URL:https://event.cologne/event/reingelegt-und-abgezockt-2
LOCATION:VHS im Bezirksrathaus Mülheim - Wiener Platz 2a\, 51065 Köln
STATUS:CONFIRMED
CATEGORIES:Mülheim,Theater
END:VEVENT
END:VCALENDAR
