BEGIN:VCALENDAR
VERSION:2.0
CALSCALE:GREGORIAN
PRODID:adamgibbons/ics
METHOD:PUBLISH
X-PUBLISHED-TTL:PT1H
BEGIN:VEVENT
UID:405@event.cologne
SUMMARY:Vorlesen mit dem Kamishibai – Erzähltheater
DTSTAMP:20260420T181450Z
DTSTART:20260421T140000Z
DTEND:20260421T150000Z
URL:https://event.cologne/event/vorlesen-mit-dem-kamishibai-erzahltheater-3
GEO:50.8894;6.99171
LOCATION:Stadtteilbibliothek Rodenkirchen - Schillingsrotter Straße 38\, 50
	996 Köln
STATUS:CONFIRMED
CATEGORIES:EintrittFrei,Rodenkirchen
END:VEVENT
BEGIN:VEVENT
UID:642@event.cologne
SUMMARY:Schätze aus dem Archiv – Dokumente und Erzählungen zu lesbischer Ge
	schichte
DTSTAMP:20260420T181450Z
DTSTART:20260424T160000Z
DTEND:20260424T180000Z
URL:https://event.cologne/event/schatze-aus-dem-archiv-dokumente-und-erzahl
	ungen-zu-lesbischer-geschichte
LOCATION:Kölner Frauengeschichtsverein e. V. - Höninger Weg  100 A\, 50969 
	Köln
STATUS:CONFIRMED
CATEGORIES:Ausstellung,EintrittFrei,Rodenkirchen
END:VEVENT
BEGIN:VEVENT
UID:424@event.cologne
SUMMARY:Wanderung am Weißen Rheinbogen
DTSTAMP:20260420T181450Z
DTSTART:20260425T170000Z
DTEND:20260425T200000Z
URL:https://event.cologne/event/wanderung-am-weissen-rheinbogen
GEO:50.8909;7.02577
LOCATION:Uferstraße am Parkplatz des Minigolfplatzes - Uferstraße 70\, 5099
	6 Köln
STATUS:CONFIRMED
CATEGORIES:EintrittFrei,Rodenkirchen
END:VEVENT
BEGIN:VEVENT
UID:485@event.cologne
SUMMARY:Erste Schritte mit der Overlock-Nähmaschine
DTSTAMP:20260420T181450Z
DTSTART:20260430T140000Z
DTEND:20260430T163000Z
URL:https://event.cologne/event/erste-schritte-mit-der-overlock-nahmaschine
GEO:50.8894;6.99171
LOCATION:Stadtteilbibliothek Rodenkirchen - Schillingsrotter Straße 38\, 50
	996 Köln
STATUS:CONFIRMED
CATEGORIES:EintrittFrei,Rodenkirchen
END:VEVENT
BEGIN:VEVENT
UID:492@event.cologne
SUMMARY:Persönliche Hilfestellung für eMedien
DTSTAMP:20260420T181450Z
DTSTART:20260504T220000Z
DTEND:20260504T220000Z
URL:https://event.cologne/event/personliche-hilfestellung-fur-emedien-3
GEO:50.8894;6.99171
LOCATION:Stadtteilbibliothek Rodenkirchen - Schillingsrotter Straße 38\, 50
	996 Köln
STATUS:CONFIRMED
CATEGORIES:EintrittFrei,Rodenkirchen
END:VEVENT
BEGIN:VEVENT
UID:577@event.cologne
SUMMARY:Craft Training
DTSTAMP:20260420T181450Z
DTSTART:20260508T140000Z
DTEND:20260508T160000Z
URL:https://event.cologne/event/craft-training-1
GEO:50.8894;6.99171
LOCATION:Stadtteilbibliothek Rodenkirchen - Schillingsrotter Straße 38\, 50
	996 Köln
STATUS:CONFIRMED
CATEGORIES:EintrittFrei,Rodenkirchen
END:VEVENT
BEGIN:VEVENT
UID:503@event.cologne
SUMMARY:Bienentag im Finkens Garten
DTSTAMP:20260420T181450Z
DTSTART:20260510T110000Z
DTEND:20260510T150000Z
URL:https://event.cologne/event/bienentag-im-finkens-garten
LOCATION:Finkens Garten - Friedrich-Ebert-Straße 49\, 50996 Köln
STATUS:CONFIRMED
CATEGORIES:Rodenkirchen
END:VEVENT
BEGIN:VEVENT
UID:593@event.cologne
SUMMARY:MINT-Vorlesen und Experimentieren
DTSTAMP:20260420T181450Z
DTSTART:20260515T140000Z
DTEND:20260515T150000Z
URL:https://event.cologne/event/mint-vorlesen-und-experimentieren-2
GEO:50.8894;6.99171
LOCATION:Stadtteilbibliothek Rodenkirchen - Schillingsrotter Straße 38\, 50
	996 Köln
STATUS:CONFIRMED
CATEGORIES:EintrittFrei,Rodenkirchen
END:VEVENT
BEGIN:VEVENT
UID:620@event.cologne
SUMMARY:Vorlesen mit dem Kamishibai – Erzähltheater
DTSTAMP:20260420T181450Z
DTSTART:20260519T140000Z
DTEND:20260519T150000Z
URL:https://event.cologne/event/vorlesen-mit-dem-kamishibai-erzahltheater-6
GEO:50.8894;6.99171
LOCATION:Stadtteilbibliothek Rodenkirchen - Schillingsrotter Straße 38\, 50
	996 Köln
STATUS:CONFIRMED
CATEGORIES:EintrittFrei,Rodenkirchen
END:VEVENT
BEGIN:VEVENT
UID:610@event.cologne
SUMMARY:Rodenkirchen erinnert sich (63)
DTSTAMP:20260420T181450Z
DTSTART:20260520T163000Z
DTEND:20260520T200000Z
URL:https://event.cologne/event/rodenkirchen-erinnert-sich-63
GEO:50.8894;6.99171
LOCATION:Stadtteilbibliothek Rodenkirchen - Schillingsrotter Straße 38\, 50
	996 Köln
STATUS:CONFIRMED
CATEGORIES:Rodenkirchen,Vortrag
END:VEVENT
BEGIN:VEVENT
UID:699@event.cologne
SUMMARY:Das Fenster zum Hof
DTSTAMP:20260420T181450Z
DTSTART:20260529T220000Z
DTEND:20260529T220000Z
URL:https://event.cologne/event/das-fenster-zum-hof
GEO:50.8894;6.99171
LOCATION:Stadtteilbibliothek Rodenkirchen - Schillingsrotter Straße 38\, 50
	996 Köln
STATUS:CONFIRMED
CATEGORIES:Lesung,Rodenkirchen
END:VEVENT
BEGIN:VEVENT
UID:725@event.cologne
SUMMARY:Persönliche Hilfestellung für eMedien
DTSTAMP:20260420T181450Z
DTSTART:20260601T220000Z
DTEND:20260601T220000Z
URL:https://event.cologne/event/personliche-hilfestellung-fur-emedien-8
GEO:50.8894;6.99171
LOCATION:Stadtteilbibliothek Rodenkirchen - Schillingsrotter Straße 38\, 50
	996 Köln
STATUS:CONFIRMED
CATEGORIES:EintrittFrei,Rodenkirchen
END:VEVENT
END:VCALENDAR
