BEGIN:VCALENDAR
VERSION:2.0
CALSCALE:GREGORIAN
PRODID:adamgibbons/ics
METHOD:PUBLISH
X-PUBLISHED-TTL:PT1H
BEGIN:VEVENT
UID:404@event.cologne
SUMMARY:Nippeser Strickmamsellcher
DTSTAMP:20260420T181448Z
DTSTART:20260421T133000Z
DTEND:20260421T153000Z
URL:https://event.cologne/event/nippeser-strickmamsellcher-10
GEO:50.9728;6.9516
LOCATION:Stadtteilbibliothek Nippes - Neusser Straße 450\, 50733 Köln
STATUS:CONFIRMED
CATEGORIES:EintrittFrei,Nippes
END:VEVENT
BEGIN:VEVENT
UID:301@event.cologne
SUMMARY:Botanische Mittagspause
DTSTAMP:20260420T181448Z
DTSTART:20260422T170000Z
DTEND:20260422T200000Z
URL:https://event.cologne/event/botanische-mittagspause
GEO:50.9592;6.97221
LOCATION:Flora und Botanischer Garten - Alter Stammheimer Weg (Haupteingang
	) \, 50735 Köln
STATUS:CONFIRMED
CATEGORIES:EintrittFrei,Führung,Nippes
END:VEVENT
BEGIN:VEVENT
UID:409@event.cologne
SUMMARY:Offene Werkstatt für digitale Mündigkeit und Souveränität
DTSTAMP:20260420T181448Z
DTSTART:20260423T090000Z
DTEND:20260423T110000Z
URL:https://event.cologne/event/offene-werkstatt-fur-digitale-mundigkeit-un
	d-souveranitat-3
GEO:50.9728;6.9516
LOCATION:Stadtteilbibliothek Nippes - Neusser Straße 450\, 50733 Köln
STATUS:CONFIRMED
CATEGORIES:EintrittFrei,Nippes
END:VEVENT
BEGIN:VEVENT
UID:244@event.cologne
SUMMARY:LeseWelten
DTSTAMP:20260420T181448Z
DTSTART:20260424T140000Z
DTEND:20260424T150000Z
URL:https://event.cologne/event/lesewelten-13
GEO:50.9728;6.9516
LOCATION:Stadtteilbibliothek Nippes - Neusser Straße 450\, 50733 Köln
STATUS:CONFIRMED
CATEGORIES:EintrittFrei,Lesung,Nippes
END:VEVENT
BEGIN:VEVENT
UID:418@event.cologne
SUMMARY:Nippes spielt!
DTSTAMP:20260420T181448Z
DTSTART:20260424T140000Z
DTEND:20260424T160000Z
URL:https://event.cologne/event/nippes-spielt-1
GEO:50.9728;6.9516
LOCATION:Stadtteilbibliothek Nippes - Neusser Straße 450\, 50733 Köln
STATUS:CONFIRMED
CATEGORIES:EintrittFrei,Nippes
END:VEVENT
BEGIN:VEVENT
UID:419@event.cologne
SUMMARY:Nippeser Strickmamsellcher
DTSTAMP:20260420T181448Z
DTSTART:20260424T140000Z
DTEND:20260424T160000Z
URL:https://event.cologne/event/nippeser-strickmamsellcher-11
GEO:50.9728;6.9516
LOCATION:Stadtteilbibliothek Nippes - Neusser Straße 450\, 50733 Köln
STATUS:CONFIRMED
CATEGORIES:EintrittFrei,Nippes
END:VEVENT
BEGIN:VEVENT
UID:638@event.cologne
SUMMARY:Chor-Konzert Curiosity – We wanna know what love is
DTSTAMP:20260420T181448Z
DTSTART:20260425T170000Z
DTEND:20260425T183000Z
URL:https://event.cologne/event/chor-konzert-curiosity-we-wanna-know-what-l
	ove-is
GEO:50.9686;6.94871
LOCATION:Bürgerzentrum Nippes - Altenberger Hof - Mauenheimer Straße 92\, 5
	0733 Köln
STATUS:CONFIRMED
CATEGORIES:Konzert,Nippes
END:VEVENT
BEGIN:VEVENT
UID:716@event.cologne
SUMMARY:Chor-Konzert Curiosity – We wanna know what love is
DTSTAMP:20260420T181448Z
DTSTART:20260426T150000Z
DTEND:20260426T163000Z
URL:https://event.cologne/event/chor-konzert-curiosity-we-wanna-know-what-l
	ove-is-1
GEO:50.9686;6.94871
LOCATION:Bürgerzentrum Nippes (Standort Altenberger Hof) - Mauenheimer Stra
	ße 92\, 50733 Köln
STATUS:CONFIRMED
CATEGORIES:Konzert,Nippes
END:VEVENT
BEGIN:VEVENT
UID:478@event.cologne
SUMMARY:Geschichte und Geschichten unserer Gartenpflanzen
DTSTAMP:20260420T181448Z
DTSTART:20260426T170000Z
DTEND:20260426T200000Z
URL:https://event.cologne/event/geschichte-und-geschichten-unserer-gartenpf
	lanzen
GEO:50.9592;6.97221
LOCATION:Flora und Botanischer Garten - Alter Stammheimer Weg (Haupteingang
	) \, 50735 Köln
STATUS:CONFIRMED
CATEGORIES:Nippes
END:VEVENT
BEGIN:VEVENT
UID:481@event.cologne
SUMMARY:Nippeser Strickmamsellcher
DTSTAMP:20260420T181448Z
DTSTART:20260428T133000Z
DTEND:20260428T153000Z
URL:https://event.cologne/event/nippeser-strickmamsellcher-12
GEO:50.9728;6.9516
LOCATION:Stadtteilbibliothek Nippes - Neusser Straße 450\, 50733 Köln
STATUS:CONFIRMED
CATEGORIES:EintrittFrei,Nippes
END:VEVENT
BEGIN:VEVENT
UID:661@event.cologne
SUMMARY:Fahrradtraining für Senior*innen
DTSTAMP:20260420T181448Z
DTSTART:20260504T133000Z
DTEND:20260508T153000Z
URL:https://event.cologne/event/fahrradtraining-fur-seniorinnen
GEO:50.9588;6.9557
LOCATION:Jugendverkehrsschule - Neusser Straße 164\, 50733 Köln
STATUS:CONFIRMED
CATEGORIES:EintrittFrei,Nippes
END:VEVENT
BEGIN:VEVENT
UID:489@event.cologne
SUMMARY:Nippeser Strickmamsellcher
DTSTAMP:20260420T181448Z
DTSTART:20260505T133000Z
DTEND:20260505T153000Z
URL:https://event.cologne/event/nippeser-strickmamsellcher-13
GEO:50.9728;6.9516
LOCATION:Stadtteilbibliothek Nippes - Neusser Straße 450\, 50733 Köln
STATUS:CONFIRMED
CATEGORIES:EintrittFrei,Nippes
END:VEVENT
BEGIN:VEVENT
UID:561@event.cologne
SUMMARY:Bücherbabys – die literarische Krabbelgruppe
DTSTAMP:20260420T181448Z
DTSTART:20260507T090000Z
DTEND:20260507T100000Z
URL:https://event.cologne/event/bucherbabys-die-literarische-krabbelgruppe-
	19
GEO:50.9728;6.9516
LOCATION:Stadtteilbibliothek Nippes - Neusser Straße 450\, 50733 Köln
STATUS:CONFIRMED
CATEGORIES:EintrittFrei,Familie,Nippes
END:VEVENT
BEGIN:VEVENT
UID:554@event.cologne
SUMMARY:LeseWelten
DTSTAMP:20260420T181448Z
DTSTART:20260508T140000Z
DTEND:20260508T150000Z
URL:https://event.cologne/event/lesewelten-18
GEO:50.9728;6.9516
LOCATION:Stadtteilbibliothek Nippes - Neusser Straße 450\, 50733 Köln
STATUS:CONFIRMED
CATEGORIES:EintrittFrei,Lesung,Nippes
END:VEVENT
BEGIN:VEVENT
UID:578@event.cologne
SUMMARY:Nippeser Strickmamsellcher
DTSTAMP:20260420T181448Z
DTSTART:20260508T140000Z
DTEND:20260508T160000Z
URL:https://event.cologne/event/nippeser-strickmamsellcher-15
GEO:50.9728;6.9516
LOCATION:Stadtteilbibliothek Nippes - Neusser Straße 450\, 50733 Köln
STATUS:CONFIRMED
CATEGORIES:EintrittFrei,Nippes
END:VEVENT
BEGIN:VEVENT
UID:562@event.cologne
SUMMARY:Götter in Verbindung mit den Bäumen
DTSTAMP:20260420T181448Z
DTSTART:20260510T170000Z
DTEND:20260510T200000Z
URL:https://event.cologne/event/gotter-in-verbindung-mit-den-baumen
GEO:50.9592;6.97221
LOCATION:Flora und Botanischer Garten - Alter Stammheimer Weg (Haupteingang
	) \, 50735 Köln
STATUS:CONFIRMED
CATEGORIES:Familie,Nippes
END:VEVENT
BEGIN:VEVENT
UID:508@event.cologne
SUMMARY:Nippeser Strickmamsellcher
DTSTAMP:20260420T181448Z
DTSTART:20260512T133000Z
DTEND:20260512T153000Z
URL:https://event.cologne/event/nippeser-strickmamsellcher-14
GEO:50.9728;6.9516
LOCATION:Stadtteilbibliothek Nippes - Neusser Straße 450\, 50733 Köln
STATUS:CONFIRMED
CATEGORIES:EintrittFrei,Nippes
END:VEVENT
BEGIN:VEVENT
UID:594@event.cologne
SUMMARY:Nippeser Strickmamsellcher
DTSTAMP:20260420T181448Z
DTSTART:20260515T140000Z
DTEND:20260515T160000Z
URL:https://event.cologne/event/nippeser-strickmamsellcher-16
GEO:50.9728;6.9516
LOCATION:Stadtteilbibliothek Nippes - Neusser Straße 450\, 50733 Köln
STATUS:CONFIRMED
CATEGORIES:EintrittFrei,Nippes
END:VEVENT
BEGIN:VEVENT
UID:670@event.cologne
SUMMARY:Fahrradtraining für Senior*innen
DTSTAMP:20260420T181448Z
DTSTART:20260518T133000Z
DTEND:20260522T153000Z
URL:https://event.cologne/event/fahrradtraining-fur-seniorinnen-1
GEO:50.9588;6.9557
LOCATION:Jugendverkehrsschule - Neusser Straße 164\, 50733 Köln
STATUS:CONFIRMED
CATEGORIES:EintrittFrei,Nippes
END:VEVENT
BEGIN:VEVENT
UID:602@event.cologne
SUMMARY:Tag der offenen Tür der Rheinischen Musikschule - Regionalschule No
	rd (Longerich)
DTSTAMP:20260420T181448Z
DTSTART:20260519T130000Z
DTEND:20260519T160000Z
URL:https://event.cologne/event/tag-der-offenen-tur-der-rheinischen-musiksc
	hule-regionalschule-nord-longerich
LOCATION:Rheinische Musikschule – Regionalschule Nord – Longerich - Meerfel
	dstraße 52\, 50737 Köln
STATUS:CONFIRMED
CATEGORIES:EintrittFrei,Konzert,Nippes
END:VEVENT
BEGIN:VEVENT
UID:619@event.cologne
SUMMARY:Nippeser Strickmamsellcher
DTSTAMP:20260420T181448Z
DTSTART:20260519T133000Z
DTEND:20260519T153000Z
URL:https://event.cologne/event/nippeser-strickmamsellcher-17
GEO:50.9728;6.9516
LOCATION:Stadtteilbibliothek Nippes - Neusser Straße 450\, 50733 Köln
STATUS:CONFIRMED
CATEGORIES:EintrittFrei,Nippes
END:VEVENT
BEGIN:VEVENT
UID:655@event.cologne
SUMMARY:Bücherbabys – die literarische Krabbelgruppe
DTSTAMP:20260420T181448Z
DTSTART:20260521T090000Z
DTEND:20260521T100000Z
URL:https://event.cologne/event/bucherbabys-die-literarische-krabbelgruppe-
	22
GEO:50.9728;6.9516
LOCATION:Stadtteilbibliothek Nippes - Neusser Straße 450\, 50733 Köln
STATUS:CONFIRMED
CATEGORIES:EintrittFrei,Familie,Nippes
END:VEVENT
BEGIN:VEVENT
UID:669@event.cologne
SUMMARY:Offene Werkstatt für digitale Mündigkeit und Souveränität
DTSTAMP:20260420T181448Z
DTSTART:20260521T150000Z
DTEND:20260521T170000Z
URL:https://event.cologne/event/offene-werkstatt-fur-digitale-mundigkeit-un
	d-souveranitat-8
GEO:50.9728;6.9516
LOCATION:Stadtteilbibliothek Nippes - Neusser Straße 450\, 50733 Köln
STATUS:CONFIRMED
CATEGORIES:EintrittFrei,Nippes
END:VEVENT
BEGIN:VEVENT
UID:645@event.cologne
SUMMARY:LeseWelten
DTSTAMP:20260420T181448Z
DTSTART:20260522T140000Z
DTEND:20260522T150000Z
URL:https://event.cologne/event/lesewelten-20
GEO:50.9728;6.9516
LOCATION:Stadtteilbibliothek Nippes - Neusser Straße 450\, 50733 Köln
STATUS:CONFIRMED
CATEGORIES:EintrittFrei,Lesung,Nippes
END:VEVENT
BEGIN:VEVENT
UID:673@event.cologne
SUMMARY:Nippeser Strickmamsellcher
DTSTAMP:20260420T181448Z
DTSTART:20260522T140000Z
DTEND:20260522T160000Z
URL:https://event.cologne/event/nippeser-strickmamsellcher-18
GEO:50.9728;6.9516
LOCATION:Stadtteilbibliothek Nippes - Neusser Straße 450\, 50733 Köln
STATUS:CONFIRMED
CATEGORIES:EintrittFrei,Nippes
END:VEVENT
BEGIN:VEVENT
UID:674@event.cologne
SUMMARY:Nippes spielt!
DTSTAMP:20260420T181448Z
DTSTART:20260522T140000Z
DTEND:20260522T160000Z
URL:https://event.cologne/event/nippes-spielt-2
GEO:50.9728;6.9516
LOCATION:Stadtteilbibliothek Nippes - Neusser Straße 450\, 50733 Köln
STATUS:CONFIRMED
CATEGORIES:EintrittFrei,Nippes
END:VEVENT
BEGIN:VEVENT
UID:679@event.cologne
SUMMARY:Nippeser Strickmamsellcher
DTSTAMP:20260420T181448Z
DTSTART:20260526T133000Z
DTEND:20260526T153000Z
URL:https://event.cologne/event/nippeser-strickmamsellcher-19
GEO:50.9728;6.9516
LOCATION:Stadtteilbibliothek Nippes - Neusser Straße 450\, 50733 Köln
STATUS:CONFIRMED
CATEGORIES:EintrittFrei,Nippes
END:VEVENT
BEGIN:VEVENT
UID:713@event.cologne
SUMMARY:Nippeser Strickmamsellcher
DTSTAMP:20260420T181448Z
DTSTART:20260529T140000Z
DTEND:20260529T160000Z
URL:https://event.cologne/event/nippeser-strickmamsellcher-20
GEO:50.9728;6.9516
LOCATION:Stadtteilbibliothek Nippes - Neusser Straße 450\, 50733 Köln
STATUS:CONFIRMED
CATEGORIES:EintrittFrei,Nippes
END:VEVENT
BEGIN:VEVENT
UID:702@event.cologne
SUMMARY:Kölner Vorsorge- und Gesundheitstag
DTSTAMP:20260420T181448Z
DTSTART:20260530T080000Z
DTEND:20260530T150000Z
URL:https://event.cologne/event/kolner-vorsorge-und-gesundheitstag
LOCATION:Neven DuMont Haus - Amsterdamer Straße 192\, 50735 Köln
STATUS:CONFIRMED
CATEGORIES:Nippes,Vortrag
END:VEVENT
BEGIN:VEVENT
UID:688@event.cologne
SUMMARY:Tag der offenen Tür und Sommerfest der Rheinischen Musikschule - Re
	gionalschule Nord (Nippes)
DTSTAMP:20260420T181448Z
DTSTART:20260530T100000Z
DTEND:20260530T150000Z
URL:https://event.cologne/event/tag-der-offenen-tur-und-sommerfest-der-rhei
	nischen-musikschule-regionalschule-nord-nippes
LOCATION:Rheinische Musikschule – Regionalschule Nord – Nippes - Turmstraße
	 3-7\, 50733 Köln
STATUS:CONFIRMED
CATEGORIES:EintrittFrei,Konzert,Nippes
END:VEVENT
BEGIN:VEVENT
UID:689@event.cologne
SUMMARY:So klingt Köln – Matinee Konzert
DTSTAMP:20260420T181448Z
DTSTART:20260531T090000Z
DTEND:20260531T110000Z
URL:https://event.cologne/event/so-klingt-koln-matinee-konzert
LOCATION:Flora Köln - Am Botanischen Garten 1a\, 50735 Köln
STATUS:CONFIRMED
CATEGORIES:Konzert,Nippes
END:VEVENT
BEGIN:VEVENT
UID:704@event.cologne
SUMMARY:Auf den Spuren von Peter Josef Lenné
DTSTAMP:20260420T181448Z
DTSTART:20260531T170000Z
DTEND:20260531T200000Z
URL:https://event.cologne/event/auf-den-spuren-von-peter-josef-lenne
GEO:50.9592;6.97221
LOCATION:Flora und Botanischer Garten - Alter Stammheimer Weg (Haupteingang
	) \, 50735 Köln
STATUS:CONFIRMED
CATEGORIES:Führung,Nippes
END:VEVENT
BEGIN:VEVENT
UID:734@event.cologne
SUMMARY:Nippeser Strickmamsellcher
DTSTAMP:20260420T181448Z
DTSTART:20260602T133000Z
DTEND:20260602T153000Z
URL:https://event.cologne/event/nippeser-strickmamsellcher-21
GEO:50.9728;6.9516
LOCATION:Stadtteilbibliothek Nippes - Neusser Straße 450\, 50733 Köln
STATUS:CONFIRMED
CATEGORIES:EintrittFrei,Nippes
END:VEVENT
BEGIN:VEVENT
UID:722@event.cologne
SUMMARY:Veedelstreff mit dem Ordnungsamt
DTSTAMP:20260420T181448Z
DTSTART:20260603T080000Z
DTEND:20260603T110000Z
URL:https://event.cologne/event/veedelstreff-mit-dem-ordnungsamt-5
LOCATION:Wochenmarkt Longerich - Gartenstadt Nord/Schlackstraße/Johannes-Ri
	ngs-Straße None\, 50737 Köln
STATUS:CONFIRMED
CATEGORIES:EintrittFrei,Nippes,Wortveranstaltung
END:VEVENT
END:VCALENDAR
