BEGIN:VCALENDAR
VERSION:2.0
CALSCALE:GREGORIAN
PRODID:adamgibbons/ics
METHOD:PUBLISH
X-PUBLISHED-TTL:PT1H
BEGIN:VEVENT
UID:45@event.cologne
SUMMARY:Musical goes Symphonic
DTSTAMP:20260420T195539Z
DTSTART:20260502T163000Z
DTEND:20260502T163000Z
URL:https://event.cologne/event/musical-goes-symphonic
GEO:50.9459;6.97042
LOCATION:Tanzbrunnen - Rheinparkweg 1\, 50679 Köln
STATUS:CONFIRMED
CATEGORIES:Musical
END:VEVENT
BEGIN:VEVENT
UID:66@event.cologne
SUMMARY:Evil Dead – Das Musical
DTSTAMP:20260420T195539Z
DTSTART:20260930T163000Z
DTEND:20260930T163000Z
URL:https://event.cologne/event/evil-dead-das-musical
GEO:50.9459;6.97042
LOCATION:Tanzbrunnen - Rheinparkweg 1\, 50679 Köln
STATUS:CONFIRMED
CATEGORIES:Musical
END:VEVENT
BEGIN:VEVENT
UID:67@event.cologne
SUMMARY:Evil Dead – Das Musical
DTSTAMP:20260420T195539Z
DTSTART:20261001T163000Z
DTEND:20261001T163000Z
URL:https://event.cologne/event/evil-dead-das-musical-1
GEO:50.9459;6.97042
LOCATION:Tanzbrunnen - Rheinparkweg 1\, 50679 Köln
STATUS:CONFIRMED
CATEGORIES:Musical
END:VEVENT
BEGIN:VEVENT
UID:69@event.cologne
SUMMARY:The Addams Family – Das Musical
DTSTAMP:20260420T195539Z
DTSTART:20261024T173000Z
DTEND:20261024T173000Z
URL:https://event.cologne/event/the-addams-family-das-musical
GEO:50.9459;6.97042
LOCATION:Tanzbrunnen - Rheinparkweg 1\, 50679 Köln
STATUS:CONFIRMED
CATEGORIES:Musical
END:VEVENT
BEGIN:VEVENT
UID:74@event.cologne
SUMMARY:Santa Maria – Das Musical
DTSTAMP:20260420T195539Z
DTSTART:20261106T173000Z
DTEND:20261106T173000Z
URL:https://event.cologne/event/santa-maria-das-musical
GEO:50.9459;6.97042
LOCATION:Tanzbrunnen - Rheinparkweg 1\, 50679 Köln
STATUS:CONFIRMED
CATEGORIES:Musical
END:VEVENT
BEGIN:VEVENT
UID:82@event.cologne
SUMMARY:Aladin – das Musical
DTSTAMP:20260420T195539Z
DTSTART:20261213T100000Z
DTEND:20261213T100000Z
URL:https://event.cologne/event/aladin-das-musical
GEO:50.9459;6.97042
LOCATION:Tanzbrunnen - Rheinparkweg 1\, 50679 Köln
STATUS:CONFIRMED
CATEGORIES:Musical
END:VEVENT
BEGIN:VEVENT
UID:83@event.cologne
SUMMARY:Aladin – das Musical
DTSTAMP:20260420T195539Z
DTSTART:20261213T140000Z
DTEND:20261213T140000Z
URL:https://event.cologne/event/aladin-das-musical-1
GEO:50.9459;6.97042
LOCATION:Tanzbrunnen - Rheinparkweg 1\, 50679 Köln
STATUS:CONFIRMED
CATEGORIES:Musical
END:VEVENT
BEGIN:VEVENT
UID:89@event.cologne
SUMMARY:Schneekönigin – Das Musical
DTSTAMP:20260420T195539Z
DTSTART:20270321T100000Z
DTEND:20270321T100000Z
URL:https://event.cologne/event/schneekonigin-das-musical
GEO:50.9459;6.97042
LOCATION:Tanzbrunnen - Rheinparkweg 1\, 50679 Köln
STATUS:CONFIRMED
CATEGORIES:Musical
END:VEVENT
BEGIN:VEVENT
UID:90@event.cologne
SUMMARY:Schneekönigin – Das Musical
DTSTAMP:20260420T195539Z
DTSTART:20270321T140000Z
DTEND:20270321T140000Z
URL:https://event.cologne/event/schneekonigin-das-musical-1
GEO:50.9459;6.97042
LOCATION:Tanzbrunnen - Rheinparkweg 1\, 50679 Köln
STATUS:CONFIRMED
CATEGORIES:Musical
END:VEVENT
END:VCALENDAR
