BEGIN:VCALENDAR
VERSION:2.0
CALSCALE:GREGORIAN
PRODID:adamgibbons/ics
METHOD:PUBLISH
X-PUBLISHED-TTL:PT1H
BEGIN:VEVENT
UID:456@event.cologne
SUMMARY:Literaturkreis Neubrück
DTSTAMP:20260420T181532Z
DTSTART:20260502T090000Z
DTEND:20260502T110000Z
URL:https://event.cologne/event/literaturkreis-neubruck-1
GEO:50.9394;7.00844
LOCATION:Stadtteilbibliothek Kalk - Kalker Hauptstraße 247-273\, 51103 Köln
STATUS:CONFIRMED
CATEGORIES:EintrittFrei,Kalk,Literatur
END:VEVENT
BEGIN:VEVENT
UID:559@event.cologne
SUMMARY:Lesekreis in Sülz
DTSTAMP:20260420T181532Z
DTSTART:20260509T090000Z
DTEND:20260509T100000Z
URL:https://event.cologne/event/lesekreis-in-sulz
GEO:50.9163;6.92592
LOCATION:Stadtteilbibliothek Sülz - Wichterichstraße 1\, 50937 Köln
STATUS:CONFIRMED
CATEGORIES:EintrittFrei,Lindenthal,Literatur
END:VEVENT
BEGIN:VEVENT
UID:560@event.cologne
SUMMARY:Ehrenfelder Lesekreis
DTSTAMP:20260420T181532Z
DTSTART:20260509T090000Z
DTEND:20260509T103000Z
URL:https://event.cologne/event/ehrenfelder-lesekreis-2
GEO:50.9539;6.91917
LOCATION:Stadtteilbibliothek Ehrenfeld - Subbelrather Straße 247-249\, 5082
	5 Köln
STATUS:CONFIRMED
CATEGORIES:Ehrenfeld,EintrittFrei,Literatur
END:VEVENT
END:VCALENDAR
