BEGIN:VCALENDAR
VERSION:2.0
CALSCALE:GREGORIAN
PRODID:adamgibbons/ics
METHOD:PUBLISH
X-PUBLISHED-TTL:PT1H
BEGIN:VEVENT
UID:416@event.cologne
SUMMARY:Offene Werkstatt für digitale Mündigkeit und Souveränität
DTSTAMP:20260420T181451Z
DTSTART:20260423T150000Z
DTEND:20260423T170000Z
URL:https://event.cologne/event/offene-werkstatt-fur-digitale-mundigkeit-un
	d-souveranitat-5
GEO:50.9394;7.00844
LOCATION:Stadtteilbibliothek Kalk - Kalker Hauptstraße 247-273\, 51103 Köln
STATUS:CONFIRMED
CATEGORIES:EintrittFrei,Kalk
END:VEVENT
BEGIN:VEVENT
UID:245@event.cologne
SUMMARY:Vorlesen am Samstag
DTSTAMP:20260420T181451Z
DTSTART:20260425T090000Z
DTEND:20260425T093000Z
URL:https://event.cologne/event/vorlesen-am-samstag-3
GEO:50.9394;7.00844
LOCATION:Stadtteilbibliothek Kalk - Kalker Hauptstraße 247-273\, 51103 Köln
STATUS:CONFIRMED
CATEGORIES:Kalk,Lesung
END:VEVENT
BEGIN:VEVENT
UID:422@event.cologne
SUMMARY:Workshop Digitales Zeichnen
DTSTAMP:20260420T181451Z
DTSTART:20260425T090000Z
DTEND:20260425T110000Z
URL:https://event.cologne/event/workshop-digitales-zeichnen-2
GEO:50.9394;7.00844
LOCATION:Stadtteilbibliothek Kalk - Kalker Hauptstraße 247-273\, 51103 Köln
STATUS:CONFIRMED
CATEGORIES:Kalk
END:VEVENT
BEGIN:VEVENT
UID:456@event.cologne
SUMMARY:Literaturkreis Neubrück
DTSTAMP:20260420T181451Z
DTSTART:20260502T090000Z
DTEND:20260502T110000Z
URL:https://event.cologne/event/literaturkreis-neubruck-1
GEO:50.9394;7.00844
LOCATION:Stadtteilbibliothek Kalk - Kalker Hauptstraße 247-273\, 51103 Köln
STATUS:CONFIRMED
CATEGORIES:EintrittFrei,Kalk,Literatur
END:VEVENT
BEGIN:VEVENT
UID:720@event.cologne
SUMMARY:Erfahrungsaustausch: (Nicht?-)lesbische und (nicht?-)religiöse Sich
	tbarkeit
DTSTAMP:20260420T181451Z
DTSTART:20260502T130000Z
DTEND:20260502T143000Z
URL:https://event.cologne/event/erfahrungsaustausch-nicht-lesbische-und-nic
	ht-religiose-sichtbarkeit
LOCATION:Metropolitan Community Church (MCC) Köln e. V. - Gremberger Straße
	  68 (Hinterhof)\, 51105 Köln
STATUS:CONFIRMED
CATEGORIES:Kalk,Wortveranstaltung
END:VEVENT
BEGIN:VEVENT
UID:570@event.cologne
SUMMARY:Spieletester*innen
DTSTAMP:20260420T181451Z
DTSTART:20260505T140000Z
DTEND:20260505T160000Z
URL:https://event.cologne/event/spieletesterinnen
GEO:50.9394;7.00844
LOCATION:Stadtteilbibliothek Kalk - Kalker Hauptstraße 247-273\, 51103 Köln
STATUS:CONFIRMED
CATEGORIES:EintrittFrei,Kalk
END:VEVENT
BEGIN:VEVENT
UID:552@event.cologne
SUMMARY:LeseWelten am Dienstag
DTSTAMP:20260420T181451Z
DTSTART:20260505T143000Z
DTEND:20260505T150000Z
URL:https://event.cologne/event/lesewelten-am-dienstag-3
GEO:50.9394;7.00844
LOCATION:Stadtteilbibliothek Kalk - Kalker Hauptstraße 247-273\, 51103 Köln
STATUS:CONFIRMED
CATEGORIES:Kalk,Lesung
END:VEVENT
BEGIN:VEVENT
UID:496@event.cologne
SUMMARY:Digitaler Freitag
DTSTAMP:20260420T181451Z
DTSTART:20260508T083000Z
DTEND:20260508T100000Z
URL:https://event.cologne/event/digitaler-freitag-1
GEO:50.9394;7.00844
LOCATION:Stadtteilbibliothek Kalk - Kalker Hauptstraße 247-273\, 51103 Köln
STATUS:CONFIRMED
CATEGORIES:EintrittFrei,Kalk
END:VEVENT
BEGIN:VEVENT
UID:498@event.cologne
SUMMARY:Lizenz für 3D-Druck
DTSTAMP:20260420T181451Z
DTSTART:20260508T140000Z
DTEND:20260508T160000Z
URL:https://event.cologne/event/lizenz-fur-3d-druck-5
GEO:50.9394;7.00844
LOCATION:Stadtteilbibliothek Kalk - Kalker Hauptstraße 247-273\, 51103 Köln
STATUS:CONFIRMED
CATEGORIES:EintrittFrei,Kalk
END:VEVENT
BEGIN:VEVENT
UID:451@event.cologne
SUMMARY:MINT-Vorlesen am Samstag
DTSTAMP:20260420T181451Z
DTSTART:20260509T090000Z
DTEND:20260509T093000Z
URL:https://event.cologne/event/mint-vorlesen-am-samstag-2
GEO:50.9394;7.00844
LOCATION:Stadtteilbibliothek Kalk - Kalker Hauptstraße 247-273\, 51103 Köln
STATUS:CONFIRMED
CATEGORIES:EintrittFrei,Kalk,Lesung
END:VEVENT
BEGIN:VEVENT
UID:583@event.cologne
SUMMARY:Spieletester*innen
DTSTAMP:20260420T181451Z
DTSTART:20260512T140000Z
DTEND:20260512T160000Z
URL:https://event.cologne/event/spieletesterinnen-1
GEO:50.9394;7.00844
LOCATION:Stadtteilbibliothek Kalk - Kalker Hauptstraße 247-273\, 51103 Köln
STATUS:CONFIRMED
CATEGORIES:EintrittFrei,Kalk
END:VEVENT
BEGIN:VEVENT
UID:557@event.cologne
SUMMARY:LeseWelten am Dienstag
DTSTAMP:20260420T181451Z
DTSTART:20260512T143000Z
DTEND:20260512T150000Z
URL:https://event.cologne/event/lesewelten-am-dienstag-4
GEO:50.9394;7.00844
LOCATION:Stadtteilbibliothek Kalk - Kalker Hauptstraße 247-273\, 51103 Köln
STATUS:CONFIRMED
CATEGORIES:Kalk,Lesung
END:VEVENT
BEGIN:VEVENT
UID:585@event.cologne
SUMMARY:Spielend neue Welten entdecken
DTSTAMP:20260420T181451Z
DTSTART:20260513T140000Z
DTEND:20260513T160000Z
URL:https://event.cologne/event/spielend-neue-welten-entdecken-1
GEO:50.9394;7.00844
LOCATION:Stadtteilbibliothek Kalk - Kalker Hauptstraße 247-273\, 51103 Köln
STATUS:CONFIRMED
CATEGORIES:EintrittFrei,Kalk
END:VEVENT
BEGIN:VEVENT
UID:591@event.cologne
SUMMARY:Bücherbabys – die literarische Krabbelgruppe
DTSTAMP:20260420T181451Z
DTSTART:20260515T080000Z
DTEND:20260515T090000Z
URL:https://event.cologne/event/bucherbabys-die-literarische-krabbelgruppe-
	20
GEO:50.9394;7.00844
LOCATION:Stadtteilbibliothek Kalk - Kalker Hauptstraße 247-273\, 51103 Köln
STATUS:CONFIRMED
CATEGORIES:EintrittFrei,Kalk
END:VEVENT
BEGIN:VEVENT
UID:588@event.cologne
SUMMARY:Vorlesen am Samstag
DTSTAMP:20260420T181451Z
DTSTART:20260516T090000Z
DTEND:20260516T093000Z
URL:https://event.cologne/event/vorlesen-am-samstag-4
GEO:50.9394;7.00844
LOCATION:Stadtteilbibliothek Kalk - Kalker Hauptstraße 247-273\, 51103 Köln
STATUS:CONFIRMED
CATEGORIES:Kalk,Lesung
END:VEVENT
BEGIN:VEVENT
UID:596@event.cologne
SUMMARY:Vinyl-DJ-Workshop
DTSTAMP:20260420T181451Z
DTSTART:20260516T090000Z
DTEND:20260516T110000Z
URL:https://event.cologne/event/vinyl-dj-workshop
GEO:50.9394;7.00844
LOCATION:Stadtteilbibliothek Kalk - Kalker Hauptstraße 247-273\, 51103 Köln
STATUS:CONFIRMED
CATEGORIES:EintrittFrei,Kalk
END:VEVENT
BEGIN:VEVENT
UID:622@event.cologne
SUMMARY:Spieletester*innen
DTSTAMP:20260420T181451Z
DTSTART:20260519T140000Z
DTEND:20260519T160000Z
URL:https://event.cologne/event/spieletesterinnen-2
GEO:50.9394;7.00844
LOCATION:Stadtteilbibliothek Kalk - Kalker Hauptstraße 247-273\, 51103 Köln
STATUS:CONFIRMED
CATEGORIES:EintrittFrei,Kalk
END:VEVENT
BEGIN:VEVENT
UID:605@event.cologne
SUMMARY:LeseWelten am Dienstag
DTSTAMP:20260420T181451Z
DTSTART:20260519T143000Z
DTEND:20260519T150000Z
URL:https://event.cologne/event/lesewelten-am-dienstag-5
GEO:50.9394;7.00844
LOCATION:Stadtteilbibliothek Kalk - Kalker Hauptstraße 247-273\, 51103 Köln
STATUS:CONFIRMED
CATEGORIES:Kalk,Lesung
END:VEVENT
BEGIN:VEVENT
UID:654@event.cologne
SUMMARY:Veedelstreff mit dem Ordnungsamt
DTSTAMP:20260420T181451Z
DTSTART:20260521T080000Z
DTEND:20260521T110000Z
URL:https://event.cologne/event/veedelstreff-mit-dem-ordnungsamt-4
LOCATION:Wochenmarkt Neubrück - An Sankt Adelheid \, 51109 Köln
STATUS:CONFIRMED
CATEGORIES:EintrittFrei,Kalk,Wortveranstaltung
END:VEVENT
BEGIN:VEVENT
UID:665@event.cologne
SUMMARY:Offene Werkstatt für digitale Mündigkeit und Souveränität
DTSTAMP:20260420T181451Z
DTSTART:20260521T120000Z
DTEND:20260521T140000Z
URL:https://event.cologne/event/offene-werkstatt-fur-digitale-mundigkeit-un
	d-souveranitat-7
GEO:50.9394;7.00844
LOCATION:Stadtteilbibliothek Kalk - Kalker Hauptstraße 247-273\, 51103 Köln
STATUS:CONFIRMED
CATEGORIES:EintrittFrei,Kalk
END:VEVENT
BEGIN:VEVENT
UID:646@event.cologne
SUMMARY:Vorlesen am Samstag
DTSTAMP:20260420T181451Z
DTSTART:20260523T090000Z
DTEND:20260523T093000Z
URL:https://event.cologne/event/vorlesen-am-samstag-5
GEO:50.9394;7.00844
LOCATION:Stadtteilbibliothek Kalk - Kalker Hauptstraße 247-273\, 51103 Köln
STATUS:CONFIRMED
CATEGORIES:Kalk,Lesung
END:VEVENT
BEGIN:VEVENT
UID:676@event.cologne
SUMMARY:Workshop Digitales Zeichnen
DTSTAMP:20260420T181451Z
DTSTART:20260523T090000Z
DTEND:20260523T110000Z
URL:https://event.cologne/event/workshop-digitales-zeichnen-4
GEO:50.9394;7.00844
LOCATION:Stadtteilbibliothek Kalk - Kalker Hauptstraße 247-273\, 51103 Köln
STATUS:CONFIRMED
CATEGORIES:Kalk
END:VEVENT
BEGIN:VEVENT
UID:659@event.cologne
SUMMARY:Bitburger Pokalfinale
DTSTAMP:20260420T181451Z
DTSTART:20260523T170000Z
DTEND:20260523T200000Z
URL:https://event.cologne/event/bitburger-pokalfinale
GEO:50.9453;7.03041
LOCATION:Sportpark Höhenberg - Frankfurter Straße \, 51103  Köln
STATUS:CONFIRMED
CATEGORIES:Kalk,Sport
END:VEVENT
BEGIN:VEVENT
UID:680@event.cologne
SUMMARY:Spieletester*innen
DTSTAMP:20260420T181451Z
DTSTART:20260526T140000Z
DTEND:20260526T160000Z
URL:https://event.cologne/event/spieletesterinnen-3
GEO:50.9394;7.00844
LOCATION:Stadtteilbibliothek Kalk - Kalker Hauptstraße 247-273\, 51103 Köln
STATUS:CONFIRMED
CATEGORIES:EintrittFrei,Kalk
END:VEVENT
BEGIN:VEVENT
UID:650@event.cologne
SUMMARY:LeseWelten am Dienstag
DTSTAMP:20260420T181451Z
DTSTART:20260526T143000Z
DTEND:20260526T150000Z
URL:https://event.cologne/event/lesewelten-am-dienstag-6
GEO:50.9394;7.00844
LOCATION:Stadtteilbibliothek Kalk - Kalker Hauptstraße 247-273\, 51103 Köln
STATUS:CONFIRMED
CATEGORIES:Kalk,Lesung
END:VEVENT
END:VCALENDAR
