BEGIN:VCALENDAR
VERSION:2.0
CALSCALE:GREGORIAN
PRODID:adamgibbons/ics
METHOD:PUBLISH
X-PUBLISHED-TTL:PT1H
BEGIN:VEVENT
UID:476@event.cologne
SUMMARY:MINT-Vorlesen
DTSTAMP:20260420T181450Z
DTSTART:20260422T144500Z
DTEND:20260422T153000Z
URL:https://event.cologne/event/mint-vorlesen
GEO:50.9803;6.86683
LOCATION:Stadtteilbibliothek Bocklemünd/Mengenich - Görlinger-Zentrum 13-15
	\, 50829 Köln
STATUS:CONFIRMED
CATEGORIES:Ehrenfeld,EintrittFrei
END:VEVENT
BEGIN:VEVENT
UID:421@event.cologne
SUMMARY:Ratoncitos de biblioteca
DTSTAMP:20260420T181450Z
DTSTART:20260425T083000Z
DTEND:20260425T091500Z
URL:https://event.cologne/event/ratoncitos-de-biblioteca-1
GEO:50.9803;6.86683
LOCATION:Stadtteilbibliothek Bocklemünd/Mengenich - Görlinger-Zentrum 13-15
	\, 50829 Köln
STATUS:CONFIRMED
CATEGORIES:Ehrenfeld
END:VEVENT
BEGIN:VEVENT
UID:427@event.cologne
SUMMARY:Cellogambasso
DTSTAMP:20260420T181450Z
DTSTART:20260505T160000Z
DTEND:20260505T200000Z
URL:https://event.cologne/event/cellogambasso
LOCATION:Rheinische Musikschule – Regionalschule Ehrenfeld - Vogelsanger St
	raße 28-32\, 50823 Köln
STATUS:CONFIRMED
CATEGORIES:Ehrenfeld,EintrittFrei,Konzert
END:VEVENT
BEGIN:VEVENT
UID:571@event.cologne
SUMMARY:Stricken und Klönen
DTSTAMP:20260420T181450Z
DTSTART:20260507T080000Z
DTEND:20260507T100000Z
URL:https://event.cologne/event/stricken-und-klonen
GEO:50.9803;6.86683
LOCATION:Stadtteilbibliothek Bocklemünd/Mengenich - Görlinger-Zentrum 13-15
	\, 50829 Köln
STATUS:CONFIRMED
CATEGORIES:Ehrenfeld,EintrittFrei
END:VEVENT
BEGIN:VEVENT
UID:575@event.cologne
SUMMARY:Vorlesen mit dem Kamishibai – Erzähltheater
DTSTAMP:20260420T181450Z
DTSTART:20260507T143000Z
DTEND:20260507T150000Z
URL:https://event.cologne/event/vorlesen-mit-dem-kamishibai-erzahltheater-5
GEO:50.9539;6.91917
LOCATION:Stadtteilbibliothek Ehrenfeld - Subbelrather Straße 247-249\, 5082
	5 Köln
STATUS:CONFIRMED
CATEGORIES:Ehrenfeld,EintrittFrei
END:VEVENT
BEGIN:VEVENT
UID:497@event.cologne
SUMMARY:Smartphone\, Computer\, Internet – wir begleiten Sie ins digitale L
	eben
DTSTAMP:20260420T181450Z
DTSTART:20260508T093000Z
DTEND:20260508T103000Z
URL:https://event.cologne/event/smartphone-computer-internet-wir-begleiten-
	sie-ins-digitale-leben-1
GEO:50.9539;6.91917
LOCATION:Stadtteilbibliothek Ehrenfeld - Subbelrather Straße 247-249\, 5082
	5 Köln
STATUS:CONFIRMED
CATEGORIES:Ehrenfeld,EintrittFrei
END:VEVENT
BEGIN:VEVENT
UID:579@event.cologne
SUMMARY:Mach MI(N)T!
DTSTAMP:20260420T181450Z
DTSTART:20260508T143000Z
DTEND:20260508T153000Z
URL:https://event.cologne/event/mach-mint
GEO:50.9539;6.91917
LOCATION:Stadtteilbibliothek Ehrenfeld - Subbelrather Straße 247-249\, 5082
	5 Köln
STATUS:CONFIRMED
CATEGORIES:Ehrenfeld
END:VEVENT
BEGIN:VEVENT
UID:686@event.cologne
SUMMARY:Pick 'n' Pluck 2026
DTSTAMP:20260420T181450Z
DTSTART:20260508T220000Z
DTEND:20260509T220000Z
URL:https://event.cologne/event/pick-n-pluck-2026
LOCATION:Rheinische Musikschule – Regionalschule Ehrenfeld - Vogelsanger St
	raße 28-32\, 50823 Köln
STATUS:CONFIRMED
CATEGORIES:Ehrenfeld,Konzert
END:VEVENT
BEGIN:VEVENT
UID:560@event.cologne
SUMMARY:Ehrenfelder Lesekreis
DTSTAMP:20260420T181450Z
DTSTART:20260509T090000Z
DTEND:20260509T103000Z
URL:https://event.cologne/event/ehrenfelder-lesekreis-2
GEO:50.9539;6.91917
LOCATION:Stadtteilbibliothek Ehrenfeld - Subbelrather Straße 247-249\, 5082
	5 Köln
STATUS:CONFIRMED
CATEGORIES:Ehrenfeld,EintrittFrei,Literatur
END:VEVENT
BEGIN:VEVENT
UID:595@event.cologne
SUMMARY:Ratoncitos de biblioteca
DTSTAMP:20260420T181450Z
DTSTART:20260516T083000Z
DTEND:20260516T091500Z
URL:https://event.cologne/event/ratoncitos-de-biblioteca-2
GEO:50.9803;6.86683
LOCATION:Stadtteilbibliothek Bocklemünd/Mengenich - Görlinger-Zentrum 13-15
	\, 50829 Köln
STATUS:CONFIRMED
CATEGORIES:Ehrenfeld
END:VEVENT
BEGIN:VEVENT
UID:626@event.cologne
SUMMARY:MINT-Vorlesen
DTSTAMP:20260420T181450Z
DTSTART:20260520T144500Z
DTEND:20260520T153000Z
URL:https://event.cologne/event/mint-vorlesen-1
GEO:50.9803;6.86683
LOCATION:Stadtteilbibliothek Bocklemünd/Mengenich - Görlinger-Zentrum 13-15
	\, 50829 Köln
STATUS:CONFIRMED
CATEGORIES:Ehrenfeld,EintrittFrei
END:VEVENT
BEGIN:VEVENT
UID:663@event.cologne
SUMMARY:Stricken und Klönen
DTSTAMP:20260420T181450Z
DTSTART:20260521T080000Z
DTEND:20260521T100000Z
URL:https://event.cologne/event/stricken-und-klonen-1
GEO:50.9803;6.86683
LOCATION:Stadtteilbibliothek Bocklemünd/Mengenich - Görlinger-Zentrum 13-15
	\, 50829 Köln
STATUS:CONFIRMED
CATEGORIES:Ehrenfeld,EintrittFrei
END:VEVENT
BEGIN:VEVENT
UID:644@event.cologne
SUMMARY:Vorlesezeit
DTSTAMP:20260420T181450Z
DTSTART:20260521T143000Z
DTEND:20260521T153000Z
URL:https://event.cologne/event/vorlesezeit-21
GEO:50.9539;6.91917
LOCATION:Stadtteilbibliothek Ehrenfeld - Subbelrather Straße 247-249\, 5082
	5 Köln
STATUS:CONFIRMED
CATEGORIES:Ehrenfeld,EintrittFrei,Lesung
END:VEVENT
BEGIN:VEVENT
UID:711@event.cologne
SUMMARY:Stricken und Klönen
DTSTAMP:20260420T181450Z
DTSTART:20260528T080000Z
DTEND:20260528T100000Z
URL:https://event.cologne/event/stricken-und-klonen-2
GEO:50.9803;6.86683
LOCATION:Stadtteilbibliothek Bocklemünd/Mengenich - Görlinger-Zentrum 13-15
	\, 50829 Köln
STATUS:CONFIRMED
CATEGORIES:Ehrenfeld,EintrittFrei
END:VEVENT
BEGIN:VEVENT
UID:695@event.cologne
SUMMARY:Happy Birthday James Krüss!
DTSTAMP:20260420T181450Z
DTSTART:20260528T140000Z
DTEND:20260528T153000Z
URL:https://event.cologne/event/happy-birthday-james-kruss
GEO:50.9539;6.91917
LOCATION:Stadtteilbibliothek Ehrenfeld - Subbelrather Straße 247-249\, 5082
	5 Köln
STATUS:CONFIRMED
CATEGORIES:Ehrenfeld,EintrittFrei,Lesung
END:VEVENT
END:VCALENDAR
