BEGIN:VCALENDAR
VERSION:2.0
CALSCALE:GREGORIAN
PRODID:adamgibbons/ics
METHOD:PUBLISH
X-PUBLISHED-TTL:PT1H
BEGIN:VEVENT
UID:73@event.cologne
SUMMARY:Starbugs Comedy
DTSTAMP:20260420T195538Z
DTSTART:20261105T180000Z
DTEND:20261105T180000Z
URL:https://event.cologne/event/starbugs-comedy
GEO:50.9459;6.97042
LOCATION:Tanzbrunnen - Rheinparkweg 1\, 50679 Köln
STATUS:CONFIRMED
CATEGORIES:Comedy
END:VEVENT
END:VCALENDAR
