BEGIN:VCALENDAR
VERSION:2.0
CALSCALE:GREGORIAN
PRODID:adamgibbons/ics
METHOD:PUBLISH
X-PUBLISHED-TTL:PT1H
BEGIN:VEVENT
UID:406@event.cologne
SUMMARY:SchachXperten
DTSTAMP:20260420T181536Z
DTSTART:20260421T140000Z
DTEND:20260421T153000Z
URL:https://event.cologne/event/schachxperten
GEO:51.0226;6.89969
LOCATION:Stadtteilbibliothek Chorweiler - Pariser Platz 1\, 50765 Köln
STATUS:CONFIRMED
CATEGORIES:Chorweiler,EintrittFrei
END:VEVENT
BEGIN:VEVENT
UID:413@event.cologne
SUMMARY:Code and Create
DTSTAMP:20260420T181536Z
DTSTART:20260423T140000Z
DTEND:20260423T160000Z
URL:https://event.cologne/event/code-and-create-1
GEO:51.0226;6.89969
LOCATION:Stadtteilbibliothek Chorweiler - Pariser Platz 1\, 50765 Köln
STATUS:CONFIRMED
CATEGORIES:Chorweiler,EintrittFrei
END:VEVENT
BEGIN:VEVENT
UID:194@event.cologne
SUMMARY:Barbara Ruscher Romantik – aber zack\, zack – Kabarett
DTSTAMP:20260420T181536Z
DTSTART:20260424T170000Z
DTEND:20260424T200000Z
URL:https://event.cologne/event/barbara-ruscher-romantik-aber-zack-zack-kab
	arett
GEO:51.0224;6.8994
LOCATION:Bürgerzentrum Chorweiler - Pariser Platz 1\, 50765 Köln
STATUS:CONFIRMED
CATEGORIES:Chorweiler,Kabarett
END:VEVENT
BEGIN:VEVENT
UID:246@event.cologne
SUMMARY:Vorlesezeit
DTSTAMP:20260420T181536Z
DTSTART:20260425T090000Z
DTEND:20260425T093000Z
URL:https://event.cologne/event/vorlesezeit-15
GEO:51.0226;6.89969
LOCATION:Stadtteilbibliothek Chorweiler - Pariser Platz 1\, 50765 Köln
STATUS:CONFIRMED
CATEGORIES:Chorweiler,EintrittFrei,Lesung
END:VEVENT
BEGIN:VEVENT
UID:442@event.cologne
SUMMARY:Bilderbuchkino und Bastelspaß
DTSTAMP:20260420T181536Z
DTSTART:20260428T140000Z
DTEND:20260428T150000Z
URL:https://event.cologne/event/bilderbuchkino-und-bastelspass-1
GEO:51.0226;6.89969
LOCATION:Stadtteilbibliothek Chorweiler - Pariser Platz 1\, 50765 Köln
STATUS:CONFIRMED
CATEGORIES:Chorweiler,EintrittFrei,Lesung
END:VEVENT
BEGIN:VEVENT
UID:446@event.cologne
SUMMARY:Vorlesezeit
DTSTAMP:20260420T181536Z
DTSTART:20260502T090000Z
DTEND:20260502T093000Z
URL:https://event.cologne/event/vorlesezeit-17
GEO:51.0226;6.89969
LOCATION:Stadtteilbibliothek Chorweiler - Pariser Platz 1\, 50765 Köln
STATUS:CONFIRMED
CATEGORIES:Chorweiler,EintrittFrei,Lesung
END:VEVENT
BEGIN:VEVENT
UID:465@event.cologne
SUMMARY:Veedelstreff mit dem Ordnungsamt
DTSTAMP:20260420T181536Z
DTSTART:20260507T080000Z
DTEND:20260507T110000Z
URL:https://event.cologne/event/veedelstreff-mit-dem-ordnungsamt-3
LOCATION:Wochenmarkt Chorweiler - Liverpooler Platz \,  50765 Köln
STATUS:CONFIRMED
CATEGORIES:Chorweiler,EintrittFrei,Wortveranstaltung
END:VEVENT
BEGIN:VEVENT
UID:573@event.cologne
SUMMARY:Code and Create
DTSTAMP:20260420T181536Z
DTSTART:20260507T140000Z
DTEND:20260507T160000Z
URL:https://event.cologne/event/code-and-create-2
GEO:51.0226;6.89969
LOCATION:Stadtteilbibliothek Chorweiler - Pariser Platz 1\, 50765 Köln
STATUS:CONFIRMED
CATEGORIES:Chorweiler,EintrittFrei
END:VEVENT
BEGIN:VEVENT
UID:574@event.cologne
SUMMARY:Nadelspiel
DTSTAMP:20260420T181536Z
DTSTART:20260507T140000Z
DTEND:20260507T160000Z
URL:https://event.cologne/event/nadelspiel
GEO:51.0226;6.89969
LOCATION:Stadtteilbibliothek Chorweiler - Pariser Platz 1\, 50765 Köln
STATUS:CONFIRMED
CATEGORIES:Chorweiler,EintrittFrei
END:VEVENT
BEGIN:VEVENT
UID:580@event.cologne
SUMMARY:Persönliche Hilfestellung für eMedien
DTSTAMP:20260420T181536Z
DTSTART:20260507T220000Z
DTEND:20260507T220000Z
URL:https://event.cologne/event/personliche-hilfestellung-fur-emedien-4
GEO:51.0226;6.89969
LOCATION:Stadtteilbibliothek Chorweiler - Pariser Platz 1\, 50765 Köln
STATUS:CONFIRMED
CATEGORIES:Chorweiler,EintrittFrei
END:VEVENT
BEGIN:VEVENT
UID:428@event.cologne
SUMMARY:Lennart Schilgen Abwesenheitsnotizen – Musikkabarett
DTSTAMP:20260420T181536Z
DTSTART:20260508T170000Z
DTEND:20260508T200000Z
URL:https://event.cologne/event/lennart-schilgen-abwesenheitsnotizen-musikk
	abarett
GEO:51.0224;6.8994
LOCATION:Bürgerzentrum Chorweiler - Pariser Platz 1\, 50765 Köln
STATUS:CONFIRMED
CATEGORIES:Chorweiler,Konzert
END:VEVENT
BEGIN:VEVENT
UID:452@event.cologne
SUMMARY:Vorlesezeit
DTSTAMP:20260420T181536Z
DTSTART:20260509T090000Z
DTEND:20260509T093000Z
URL:https://event.cologne/event/vorlesezeit-18
GEO:51.0226;6.89969
LOCATION:Stadtteilbibliothek Chorweiler - Pariser Platz 1\, 50765 Köln
STATUS:CONFIRMED
CATEGORIES:Chorweiler,EintrittFrei,Lesung
END:VEVENT
BEGIN:VEVENT
UID:589@event.cologne
SUMMARY:Vorlesezeit
DTSTAMP:20260420T181536Z
DTSTART:20260516T090000Z
DTEND:20260516T093000Z
URL:https://event.cologne/event/vorlesezeit-20
GEO:51.0226;6.89969
LOCATION:Stadtteilbibliothek Chorweiler - Pariser Platz 1\, 50765 Köln
STATUS:CONFIRMED
CATEGORIES:Chorweiler,EintrittFrei,Lesung
END:VEVENT
BEGIN:VEVENT
UID:621@event.cologne
SUMMARY:SchachXperten
DTSTAMP:20260420T181536Z
DTSTART:20260519T140000Z
DTEND:20260519T153000Z
URL:https://event.cologne/event/schachxperten-1
GEO:51.0226;6.89969
LOCATION:Stadtteilbibliothek Chorweiler - Pariser Platz 1\, 50765 Köln
STATUS:CONFIRMED
CATEGORIES:Chorweiler,EintrittFrei
END:VEVENT
BEGIN:VEVENT
UID:671@event.cologne
SUMMARY:Schere\, Stift\, Papier
DTSTAMP:20260420T181536Z
DTSTART:20260522T140000Z
DTEND:20260522T150000Z
URL:https://event.cologne/event/schere-stift-papier-2
GEO:51.0226;6.89969
LOCATION:Stadtteilbibliothek Chorweiler - Pariser Platz 1\, 50765 Köln
STATUS:CONFIRMED
CATEGORIES:Chorweiler,EintrittFrei
END:VEVENT
BEGIN:VEVENT
UID:647@event.cologne
SUMMARY:Vorlesezeit
DTSTAMP:20260420T181536Z
DTSTART:20260523T090000Z
DTEND:20260523T093000Z
URL:https://event.cologne/event/vorlesezeit-22
GEO:51.0226;6.89969
LOCATION:Stadtteilbibliothek Chorweiler - Pariser Platz 1\, 50765 Köln
STATUS:CONFIRMED
CATEGORIES:Chorweiler,EintrittFrei,Lesung
END:VEVENT
BEGIN:VEVENT
UID:649@event.cologne
SUMMARY:Bilderbuchkino und Bastelspaß
DTSTAMP:20260420T181536Z
DTSTART:20260526T140000Z
DTEND:20260526T150000Z
URL:https://event.cologne/event/bilderbuchkino-und-bastelspass-2
GEO:51.0226;6.89969
LOCATION:Stadtteilbibliothek Chorweiler - Pariser Platz 1\, 50765 Köln
STATUS:CONFIRMED
CATEGORIES:Chorweiler,EintrittFrei,Lesung
END:VEVENT
BEGIN:VEVENT
UID:701@event.cologne
SUMMARY:Präventionsnachmittag: Risiken im Netz – Fake News\, Cybercrime & C
	o.
DTSTAMP:20260420T181536Z
DTSTART:20260527T120000Z
DTEND:20260527T140000Z
URL:https://event.cologne/event/praventionsnachmittag-risiken-im-netz-fake-
	news-cybercrime-and-co
LOCATION:Henry-Ford-Realschule - Karl-Marx-Allee 43\, 50769 Köln
STATUS:CONFIRMED
CATEGORIES:Chorweiler,EintrittFrei,Vortrag
END:VEVENT
BEGIN:VEVENT
UID:697@event.cologne
SUMMARY:Vorlesezeit
DTSTAMP:20260420T181536Z
DTSTART:20260530T090000Z
DTEND:20260530T093000Z
URL:https://event.cologne/event/vorlesezeit-23
GEO:51.0226;6.89969
LOCATION:Stadtteilbibliothek Chorweiler - Pariser Platz 1\, 50765 Köln
STATUS:CONFIRMED
CATEGORIES:Chorweiler,EintrittFrei,Lesung
END:VEVENT
END:VCALENDAR
