BEGIN:VCALENDAR
VERSION:2.0
CALSCALE:GREGORIAN
PRODID:adamgibbons/ics
METHOD:PUBLISH
X-PUBLISHED-TTL:PT1H
BEGIN:VEVENT
UID:435@event.cologne
SUMMARY:Ausstellung Regen retten - Stadt begrünen der Verbraucherzentrale N
	RW
DTSTAMP:20260420T163253Z
DTSTART:20260325T180000Z
DTEND:20260630T200000Z
URL:https://event.cologne/event/ausstellung-regen-retten-stadt-begrunen-der
	-verbraucherzentrale-nrw
GEO:50.9401;6.97447
LOCATION:Ottoplatz - Ottoplatz\, 50679 Köln
STATUS:CONFIRMED
CATEGORIES:Ausstellung,Innenstadt
END:VEVENT
END:VCALENDAR
