BEGIN:VCALENDAR
VERSION:2.0
CALSCALE:GREGORIAN
PRODID:adamgibbons/ics
METHOD:PUBLISH
X-PUBLISHED-TTL:PT1H
BEGIN:VEVENT
UID:424@event.cologne
SUMMARY:Wanderung am Weißen Rheinbogen
DTSTAMP:20260420T181455Z
DTSTART:20260425T170000Z
DTEND:20260425T200000Z
URL:https://event.cologne/event/wanderung-am-weissen-rheinbogen
GEO:50.8909;7.02577
LOCATION:Uferstraße am Parkplatz des Minigolfplatzes - Uferstraße 70\, 5099
	6 Köln
STATUS:CONFIRMED
CATEGORIES:EintrittFrei,Rodenkirchen
END:VEVENT
END:VCALENDAR
