BEGIN:VCALENDAR
VERSION:2.0
CALSCALE:GREGORIAN
PRODID:adamgibbons/ics
METHOD:PUBLISH
X-PUBLISHED-TTL:PT1H
BEGIN:VEVENT
UID:487@event.cologne
SUMMARY:Wissenschaft im Rathaus: Wie wurde ein antiker Staat verwaltet? Ges
	ellschaft und Institutionen in den griechischen Papyri aus dem Ägypten der
	 Ptolemäerzeit
DTSTAMP:20260420T200038Z
DTSTART:20260504T170000Z
DTEND:20260504T173000Z
URL:https://event.cologne/event/wissenschaft-im-rathaus-wie-wurde-ein-antik
	er-staat-verwaltet-gesellschaft-und-institutionen-in-den-griechischen-papy
	ri-aus-dem-agypten-der-ptolemaerzeit
GEO:50.9387;6.95871
LOCATION:Rathaus - Spanischer Bau - Rathausplatz 1\, 50667 Köln
STATUS:CONFIRMED
CATEGORIES:EintrittFrei,Innenstadt
END:VEVENT
BEGIN:VEVENT
UID:723@event.cologne
SUMMARY:Wissenschaft im Rathaus: Lebensmittel\, Ernährung und Gesundheit – 
	wo stehen wir heute?
DTSTAMP:20260420T200038Z
DTSTART:20260601T170000Z
DTEND:20260601T173000Z
URL:https://event.cologne/event/wissenschaft-im-rathaus-lebensmittel-ernahr
	ung-und-gesundheit-wo-stehen-wir-heute
GEO:50.9387;6.95871
LOCATION:Rathaus - Spanischer Bau - Rathausplatz 1\, 50667 Köln
STATUS:CONFIRMED
CATEGORIES:EintrittFrei,Innenstadt
END:VEVENT
END:VCALENDAR
