BEGIN:VCALENDAR
VERSION:2.0
CALSCALE:GREGORIAN
PRODID:adamgibbons/ics
METHOD:PUBLISH
X-PUBLISHED-TTL:PT1H
BEGIN:VEVENT
UID:651@event.cologne
SUMMARY:Über den Sinn von Zufallsentscheidungen – vhs.wissen live
DTSTAMP:20260420T163252Z
DTSTART:20260422T173000Z
DTEND:20260422T190000Z
URL:https://event.cologne/event/uber-den-sinn-von-zufallsentscheidungen-vhs
	wissen-live
LOCATION:Online-Veranstaltung - None None\, None None
STATUS:CONFIRMED
CATEGORIES:Vortrag
END:VEVENT
BEGIN:VEVENT
UID:707@event.cologne
SUMMARY:Offene Sprechstunde zum Datenschutz in der Schule
DTSTAMP:20260420T163252Z
DTSTART:20260427T130000Z
DTEND:20260427T140000Z
URL:https://event.cologne/event/offene-sprechstunde-zum-datenschutz-in-der-
	schule-1
LOCATION:Online-Veranstaltung - None None\, None None
STATUS:CONFIRMED
CATEGORIES:EintrittFrei
END:VEVENT
BEGIN:VEVENT
UID:700@event.cologne
SUMMARY:Digi:Snack Online: Social Media Trends
DTSTAMP:20260420T163252Z
DTSTART:20260504T130000Z
DTEND:20260504T140000Z
URL:https://event.cologne/event/digisnack-online-social-media-trends
LOCATION:Online-Veranstaltung - None None\, None None
STATUS:CONFIRMED
CATEGORIES:EintrittFrei,Vortrag
END:VEVENT
BEGIN:VEVENT
UID:494@event.cologne
SUMMARY:telli.nrw im Schulalltag für Schulen der Sekundarstufen I und II
DTSTAMP:20260420T163252Z
DTSTART:20260507T120000Z
DTEND:20260507T133000Z
URL:https://event.cologne/event/tellinrw-im-schulalltag-fur-schulen-der-sek
	undarstufen-i-und-ii
LOCATION:Online-Veranstaltung - None None\, None None
STATUS:CONFIRMED
CATEGORIES:EintrittFrei
END:VEVENT
BEGIN:VEVENT
UID:504@event.cologne
SUMMARY:telli.nrw im Schulalltag für Berufskollegs
DTSTAMP:20260420T163252Z
DTSTART:20260511T100000Z
DTEND:20260511T113000Z
URL:https://event.cologne/event/tellinrw-im-schulalltag-fur-berufskollegs
LOCATION:Online-Veranstaltung - None None\, None None
STATUS:CONFIRMED
CATEGORIES:EintrittFrei
END:VEVENT
BEGIN:VEVENT
UID:507@event.cologne
SUMMARY:Einführung für Schulen in die Anwendung Edumaps
DTSTAMP:20260420T163252Z
DTSTART:20260512T120000Z
DTEND:20260512T133000Z
URL:https://event.cologne/event/einfuhrung-fur-schulen-in-die-anwendung-edu
	maps-1
LOCATION:Online-Veranstaltung - None None\, None None
STATUS:CONFIRMED
CATEGORIES:EintrittFrei
END:VEVENT
BEGIN:VEVENT
UID:615@event.cologne
SUMMARY:telli.nrw im Schulalltag für Schulen der Primarstufe
DTSTAMP:20260420T163252Z
DTSTART:20260518T113000Z
DTEND:20260518T130000Z
URL:https://event.cologne/event/tellinrw-im-schulalltag-fur-schulen-der-pri
	marstufe
LOCATION:Online-Veranstaltung - None None\, None None
STATUS:CONFIRMED
CATEGORIES:EintrittFrei
END:VEVENT
END:VCALENDAR
