BEGIN:VCALENDAR
VERSION:2.0
CALSCALE:GREGORIAN
PRODID:adamgibbons/ics
METHOD:PUBLISH
X-PUBLISHED-TTL:PT1H
BEGIN:VEVENT
UID:712@event.cologne
SUMMARY:247. Flächennutzungsplanänderung Entwicklungsraum Max-Becker-Areal 
	in Köln-Ehrenfeld
DTSTAMP:20260420T195639Z
DTSTART:20260423T170000Z
DTEND:20260528T200000Z
URL:https://event.cologne/event/247-flachennutzungsplananderung-entwicklung
	sraum-max-becker-areal-in-koln-ehrenfeld
LOCATION:Stadtplanungsamt – Öffentlichkeitsbeteiligung - Stadthaus Deutz\, 
	Riegel A\, Raum 09B44\, Willy-Brandt-Platz  2\, 5679 Köln
STATUS:CONFIRMED
CATEGORIES:Innenstadt
END:VEVENT
END:VCALENDAR
