BEGIN:VCALENDAR
VERSION:2.0
CALSCALE:GREGORIAN
PRODID:adamgibbons/ics
METHOD:PUBLISH
X-PUBLISHED-TTL:PT1H
BEGIN:VEVENT
UID:302@event.cologne
SUMMARY:Führung durch die Stadtgärtnerei
DTSTAMP:20260420T181457Z
DTSTART:20260425T170000Z
DTEND:20260425T200000Z
URL:https://event.cologne/event/fuhrung-durch-die-stadtgartnerei
LOCATION:Stadtgärtnerei - Am Grauen Stein 26\, 51105 Köln
STATUS:CONFIRMED
CATEGORIES:Führung,Porz
END:VEVENT
END:VCALENDAR
