BEGIN:VCALENDAR
VERSION:2.0
CALSCALE:GREGORIAN
PRODID:adamgibbons/ics
METHOD:PUBLISH
X-PUBLISHED-TTL:PT1H
BEGIN:VEVENT
UID:503@event.cologne
SUMMARY:Bienentag im Finkens Garten
DTSTAMP:20260420T181454Z
DTSTART:20260510T110000Z
DTEND:20260510T150000Z
URL:https://event.cologne/event/bienentag-im-finkens-garten
LOCATION:Finkens Garten - Friedrich-Ebert-Straße 49\, 50996 Köln
STATUS:CONFIRMED
CATEGORIES:Rodenkirchen
END:VEVENT
END:VCALENDAR
