BEGIN:VCALENDAR
VERSION:2.0
CALSCALE:GREGORIAN
PRODID:adamgibbons/ics
METHOD:PUBLISH
X-PUBLISHED-TTL:PT1H
BEGIN:VEVENT
UID:403@event.cologne
SUMMARY:Bücherbabys – die literarische Krabbelgruppe
DTSTAMP:20260420T181457Z
DTSTART:20260421T090000Z
DTEND:20260421T100000Z
URL:https://event.cologne/event/bucherbabys-die-literarische-krabbelgruppe-
	13
GEO:50.9226;6.95897
LOCATION:Stadtteilbibliothek Haus Balchem - Severinstraße 15\, 50678 Köln
STATUS:CONFIRMED
CATEGORIES:EintrittFrei,Innenstadt
END:VEVENT
BEGIN:VEVENT
UID:407@event.cologne
SUMMARY:Stricktreff in Haus Balchem
DTSTAMP:20260420T181457Z
DTSTART:20260422T130000Z
DTEND:20260422T150000Z
URL:https://event.cologne/event/stricktreff-in-haus-balchem-2
GEO:50.9226;6.95897
LOCATION:Stadtteilbibliothek Haus Balchem - Severinstraße 15\, 50678 Köln
STATUS:CONFIRMED
CATEGORIES:EintrittFrei,Innenstadt
END:VEVENT
BEGIN:VEVENT
UID:411@event.cologne
SUMMARY:Offene Werkstatt für digitale Mündigkeit und Souveränität
DTSTAMP:20260420T181457Z
DTSTART:20260423T120000Z
DTEND:20260423T140000Z
URL:https://event.cologne/event/offene-werkstatt-fur-digitale-mundigkeit-un
	d-souveranitat-4
GEO:50.9226;6.95897
LOCATION:Stadtteilbibliothek Haus Balchem - Severinstraße 15\, 50678 Köln
STATUS:CONFIRMED
CATEGORIES:EintrittFrei,Innenstadt
END:VEVENT
BEGIN:VEVENT
UID:414@event.cologne
SUMMARY:Comic Lounge 62
DTSTAMP:20260420T181457Z
DTSTART:20260423T144500Z
DTEND:20260423T164500Z
URL:https://event.cologne/event/comic-lounge-62
GEO:50.9226;6.95897
LOCATION:Stadtteilbibliothek Haus Balchem - Severinstraße 15\, 50678 Köln
STATUS:CONFIRMED
CATEGORIES:EintrittFrei,Innenstadt
END:VEVENT
BEGIN:VEVENT
UID:480@event.cologne
SUMMARY:Bücherbabys – die literarische Krabbelgruppe
DTSTAMP:20260420T181457Z
DTSTART:20260428T090000Z
DTEND:20260428T100000Z
URL:https://event.cologne/event/bucherbabys-die-literarische-krabbelgruppe-
	15
GEO:50.9226;6.95897
LOCATION:Stadtteilbibliothek Haus Balchem - Severinstraße 15\, 50678 Köln
STATUS:CONFIRMED
CATEGORIES:EintrittFrei,Innenstadt
END:VEVENT
BEGIN:VEVENT
UID:484@event.cologne
SUMMARY:Stricktreff in Haus Balchem
DTSTAMP:20260420T181457Z
DTSTART:20260429T130000Z
DTEND:20260429T150000Z
URL:https://event.cologne/event/stricktreff-in-haus-balchem-3
GEO:50.9226;6.95897
LOCATION:Stadtteilbibliothek Haus Balchem - Severinstraße 15\, 50678 Köln
STATUS:CONFIRMED
CATEGORIES:EintrittFrei,Innenstadt
END:VEVENT
BEGIN:VEVENT
UID:488@event.cologne
SUMMARY:Bücherbabys – die literarische Krabbelgruppe
DTSTAMP:20260420T181457Z
DTSTART:20260505T090000Z
DTEND:20260505T100000Z
URL:https://event.cologne/event/bucherbabys-die-literarische-krabbelgruppe-
	16
GEO:50.9226;6.95897
LOCATION:Stadtteilbibliothek Haus Balchem - Severinstraße 15\, 50678 Köln
STATUS:CONFIRMED
CATEGORIES:EintrittFrei,Innenstadt
END:VEVENT
BEGIN:VEVENT
UID:448@event.cologne
SUMMARY:LeseWelten
DTSTAMP:20260420T181457Z
DTSTART:20260506T133000Z
DTEND:20260506T140000Z
URL:https://event.cologne/event/lesewelten-16
GEO:50.9226;6.95897
LOCATION:Stadtteilbibliothek Haus Balchem - Severinstraße 15\, 50678 Köln
STATUS:CONFIRMED
CATEGORIES:EintrittFrei,Innenstadt,Lesung
END:VEVENT
BEGIN:VEVENT
UID:506@event.cologne
SUMMARY:Bücherbabys – die literarische Krabbelgruppe
DTSTAMP:20260420T181457Z
DTSTART:20260512T090000Z
DTEND:20260512T100000Z
URL:https://event.cologne/event/bucherbabys-die-literarische-krabbelgruppe-
	17
GEO:50.9226;6.95897
LOCATION:Stadtteilbibliothek Haus Balchem - Severinstraße 15\, 50678 Köln
STATUS:CONFIRMED
CATEGORIES:EintrittFrei,Innenstadt
END:VEVENT
BEGIN:VEVENT
UID:616@event.cologne
SUMMARY:Spielend neue Welten entdecken
DTSTAMP:20260420T181457Z
DTSTART:20260518T140000Z
DTEND:20260518T160000Z
URL:https://event.cologne/event/spielend-neue-welten-entdecken-2
GEO:50.9226;6.95897
LOCATION:Stadtteilbibliothek Haus Balchem - Severinstraße 15\, 50678 Köln
STATUS:CONFIRMED
CATEGORIES:EintrittFrei,Innenstadt
END:VEVENT
BEGIN:VEVENT
UID:617@event.cologne
SUMMARY:Bücherbabys – die literarische Krabbelgruppe
DTSTAMP:20260420T181457Z
DTSTART:20260519T090000Z
DTEND:20260519T100000Z
URL:https://event.cologne/event/bucherbabys-die-literarische-krabbelgruppe-
	21
GEO:50.9226;6.95897
LOCATION:Stadtteilbibliothek Haus Balchem - Severinstraße 15\, 50678 Köln
STATUS:CONFIRMED
CATEGORIES:EintrittFrei,Innenstadt
END:VEVENT
BEGIN:VEVENT
UID:664@event.cologne
SUMMARY:Offene Werkstatt für digitale Mündigkeit und Souveränität
DTSTAMP:20260420T181457Z
DTSTART:20260521T090000Z
DTEND:20260521T110000Z
URL:https://event.cologne/event/offene-werkstatt-fur-digitale-mundigkeit-un
	d-souveranitat-6
GEO:50.9226;6.95897
LOCATION:Stadtteilbibliothek Haus Balchem - Severinstraße 15\, 50678 Köln
STATUS:CONFIRMED
CATEGORIES:EintrittFrei,Innenstadt
END:VEVENT
BEGIN:VEVENT
UID:668@event.cologne
SUMMARY:Comic Lounge 63
DTSTAMP:20260420T181457Z
DTSTART:20260521T144500Z
DTEND:20260521T164500Z
URL:https://event.cologne/event/comic-lounge-63
GEO:50.9226;6.95897
LOCATION:Stadtteilbibliothek Haus Balchem - Severinstraße 15\, 50678 Köln
STATUS:CONFIRMED
CATEGORIES:EintrittFrei,Innenstadt
END:VEVENT
BEGIN:VEVENT
UID:678@event.cologne
SUMMARY:Bücherbabys – die literarische Krabbelgruppe
DTSTAMP:20260420T181457Z
DTSTART:20260526T090000Z
DTEND:20260526T100000Z
URL:https://event.cologne/event/bucherbabys-die-literarische-krabbelgruppe-
	23
GEO:50.9226;6.95897
LOCATION:Stadtteilbibliothek Haus Balchem - Severinstraße 15\, 50678 Köln
STATUS:CONFIRMED
CATEGORIES:EintrittFrei,Innenstadt
END:VEVENT
BEGIN:VEVENT
UID:733@event.cologne
SUMMARY:Bücherbabys – die literarische Krabbelgruppe
DTSTAMP:20260420T181457Z
DTSTART:20260602T090000Z
DTEND:20260602T100000Z
URL:https://event.cologne/event/bucherbabys-die-literarische-krabbelgruppe-
	25
GEO:50.9226;6.95897
LOCATION:Stadtteilbibliothek Haus Balchem - Severinstraße 15\, 50678 Köln
STATUS:CONFIRMED
CATEGORIES:EintrittFrei,Innenstadt
END:VEVENT
END:VCALENDAR
