BEGIN:VCALENDAR
VERSION:2.0
CALSCALE:GREGORIAN
PRODID:adamgibbons/ics
METHOD:PUBLISH
X-PUBLISHED-TTL:PT1H
BEGIN:VEVENT
UID:191@event.cologne
SUMMARY:Ausstellung: Wegbereiterinnen des Wandels – Die Erste Frauenbewegun
	g in Köln
DTSTAMP:20260420T163252Z
DTSTART:20251024T170000Z
DTEND:20260524T200000Z
URL:https://event.cologne/event/ausstellung-wegbereiterinnen-des-wandels-di
	e-erste-frauenbewegung-in-koln
LOCATION:Historisches Archiv mit Rheinischem Bildarchiv - Eifelwall 5\, 506
	74 Köln
STATUS:CONFIRMED
CATEGORIES:Ausstellung,Innenstadt
END:VEVENT
BEGIN:VEVENT
UID:300@event.cologne
SUMMARY:Führung durch die Ausstellung Wegbereiterinnen des Wandels mit der 
	Kuratorin Dr. Daniela Wagner
DTSTAMP:20260420T163252Z
DTSTART:20260422T150000Z
DTEND:20260422T160000Z
URL:https://event.cologne/event/fuhrung-durch-die-ausstellung-wegbereiterin
	nen-des-wandels-mit-der-kuratorin-dr-daniela-wagner-3
LOCATION:Historisches Archiv mit Rheinischem Bildarchiv - Eifelwall 5\, 506
	74 Köln
STATUS:CONFIRMED
CATEGORIES:EintrittFrei,Führung,Innenstadt
END:VEVENT
BEGIN:VEVENT
UID:468@event.cologne
SUMMARY:Führung durch die Ausstellung Wegbereiterinnen des Wandels mit der 
	Kuratorin Dr. Daniela Wagner
DTSTAMP:20260420T163252Z
DTSTART:20260505T220000Z
DTEND:20260505T220000Z
URL:https://event.cologne/event/fuhrung-durch-die-ausstellung-wegbereiterin
	nen-des-wandels-mit-der-kuratorin-dr-daniela-wagner-4
LOCATION:Historisches Archiv mit Rheinischem Bildarchiv - Eifelwall 5\, 506
	74 Köln
STATUS:CONFIRMED
CATEGORIES:EintrittFrei,Führung,Innenstadt
END:VEVENT
BEGIN:VEVENT
UID:564@event.cologne
SUMMARY:Führung durch die Ausstellung Wegbereiterinnen des Wandels mit der 
	Kuratorin Dr. Daniela Wagner
DTSTAMP:20260420T163252Z
DTSTART:20260514T150000Z
DTEND:20260514T160000Z
URL:https://event.cologne/event/fuhrung-durch-die-ausstellung-wegbereiterin
	nen-des-wandels-mit-der-kuratorin-dr-daniela-wagner-5
LOCATION:Historisches Archiv mit Rheinischem Bildarchiv - Eifelwall 5\, 506
	74 Köln
STATUS:CONFIRMED
CATEGORIES:EintrittFrei,Führung,Innenstadt
END:VEVENT
END:VCALENDAR
