BEGIN:VCALENDAR
VERSION:2.0
CALSCALE:GREGORIAN
PRODID:adamgibbons/ics
METHOD:PUBLISH
X-PUBLISHED-TTL:PT1H
BEGIN:VEVENT
UID:493@event.cologne
SUMMARY:Engagier dich! – Engagementbörse für die Willkommenskultur in Köln
DTSTAMP:20260420T181456Z
DTSTART:20260506T160000Z
DTEND:20260506T181500Z
URL:https://event.cologne/event/engagier-dich-engagementborse-fur-die-willk
	ommenskultur-in-koln
GEO:50.9349;6.95065
LOCATION:Kölner VHS-Forum im Museum am Neumarkt - Cäcilienstraße  29-33\, 5
	0667 Köln
STATUS:CONFIRMED
CATEGORIES:Innenstadt
END:VEVENT
END:VCALENDAR
