BEGIN:VCALENDAR
VERSION:2.0
CALSCALE:GREGORIAN
PRODID:adamgibbons/ics
METHOD:PUBLISH
X-PUBLISHED-TTL:PT1H
BEGIN:VEVENT
UID:289@event.cologne
SUMMARY:Kreativ-Tag
DTSTAMP:20260420T181457Z
DTSTART:20260423T140000Z
DTEND:20260423T160000Z
URL:https://event.cologne/event/kreativ-tag-1
GEO:50.885;7.05522
LOCATION:Stadtteilbibliothek Porz - Alfred-Moritz-Platz 1\, 51143 Köln
STATUS:CONFIRMED
CATEGORIES:EintrittFrei,Familie,Porz
END:VEVENT
BEGIN:VEVENT
UID:420@event.cologne
SUMMARY:Lizenz für 3D-Druck
DTSTAMP:20260420T181457Z
DTSTART:20260424T140000Z
DTEND:20260424T160000Z
URL:https://event.cologne/event/lizenz-fur-3d-druck-4
GEO:50.885;7.05522
LOCATION:Stadtteilbibliothek Porz - Alfred-Moritz-Platz 1\, 51143 Köln
STATUS:CONFIRMED
CATEGORIES:EintrittFrei,Porz
END:VEVENT
BEGIN:VEVENT
UID:445@event.cologne
SUMMARY:Bilderbuchkino
DTSTAMP:20260420T181457Z
DTSTART:20260430T143000Z
DTEND:20260430T153000Z
URL:https://event.cologne/event/bilderbuchkino-1
GEO:50.885;7.05522
LOCATION:Stadtteilbibliothek Porz - Alfred-Moritz-Platz 1\, 51143 Köln
STATUS:CONFIRMED
CATEGORIES:Lesung,Porz
END:VEVENT
BEGIN:VEVENT
UID:572@event.cologne
SUMMARY:Hand in Hand
DTSTAMP:20260420T181457Z
DTSTART:20260507T140000Z
DTEND:20260507T160000Z
URL:https://event.cologne/event/hand-in-hand-1
GEO:50.885;7.05522
LOCATION:Stadtteilbibliothek Porz - Alfred-Moritz-Platz 1\, 51143 Köln
STATUS:CONFIRMED
CATEGORIES:EintrittFrei,Porz
END:VEVENT
BEGIN:VEVENT
UID:500@event.cologne
SUMMARY:Onleihe Hilfestellung der Stadtbibliothek
DTSTAMP:20260420T181457Z
DTSTART:20260507T220000Z
DTEND:20260507T220000Z
URL:https://event.cologne/event/onleihe-hilfestellung-der-stadtbibliothek-1
GEO:50.885;7.05522
LOCATION:Stadtteilbibliothek Porz - Alfred-Moritz-Platz 1\, 51143 Köln
STATUS:CONFIRMED
CATEGORIES:EintrittFrei,Porz
END:VEVENT
BEGIN:VEVENT
UID:499@event.cologne
SUMMARY:Lizenz für Lasercutter
DTSTAMP:20260420T181457Z
DTSTART:20260508T140000Z
DTEND:20260508T160000Z
URL:https://event.cologne/event/lizenz-fur-lasercutter-2
GEO:50.885;7.05522
LOCATION:Stadtteilbibliothek Porz - Alfred-Moritz-Platz 1\, 51143 Köln
STATUS:CONFIRMED
CATEGORIES:EintrittFrei,Porz
END:VEVENT
BEGIN:VEVENT
UID:592@event.cologne
SUMMARY:Digital Fit
DTSTAMP:20260420T181457Z
DTSTART:20260515T080000Z
DTEND:20260515T100000Z
URL:https://event.cologne/event/digital-fit-2
GEO:50.885;7.05522
LOCATION:Stadtteilbibliothek Porz - Alfred-Moritz-Platz 1\, 51143 Köln
STATUS:CONFIRMED
CATEGORIES:EintrittFrei,Porz
END:VEVENT
BEGIN:VEVENT
UID:656@event.cologne
SUMMARY:Kreativ-Tag
DTSTAMP:20260420T181457Z
DTSTART:20260521T143000Z
DTEND:20260521T160000Z
URL:https://event.cologne/event/kreativ-tag-2
GEO:50.885;7.05522
LOCATION:Stadtteilbibliothek Porz - Alfred-Moritz-Platz 1\, 51143 Köln
STATUS:CONFIRMED
CATEGORIES:EintrittFrei,Familie,Porz
END:VEVENT
BEGIN:VEVENT
UID:675@event.cologne
SUMMARY:Bücherplausch
DTSTAMP:20260420T181457Z
DTSTART:20260522T140000Z
DTEND:20260522T160000Z
URL:https://event.cologne/event/bucherplausch-1
GEO:50.885;7.05522
LOCATION:Stadtteilbibliothek Porz - Alfred-Moritz-Platz 1\, 51143 Köln
STATUS:CONFIRMED
CATEGORIES:EintrittFrei,Porz
END:VEVENT
BEGIN:VEVENT
UID:696@event.cologne
SUMMARY:Bilderbuchkino
DTSTAMP:20260420T181457Z
DTSTART:20260528T143000Z
DTEND:20260528T153000Z
URL:https://event.cologne/event/bilderbuchkino-2
GEO:50.885;7.05522
LOCATION:Stadtteilbibliothek Porz - Alfred-Moritz-Platz 1\, 51143 Köln
STATUS:CONFIRMED
CATEGORIES:Lesung,Porz
END:VEVENT
BEGIN:VEVENT
UID:714@event.cologne
SUMMARY:Lizenz für 3D-Druck
DTSTAMP:20260420T181457Z
DTSTART:20260529T140000Z
DTEND:20260529T160000Z
URL:https://event.cologne/event/lizenz-fur-3d-druck-6
GEO:50.885;7.05522
LOCATION:Stadtteilbibliothek Porz - Alfred-Moritz-Platz 1\, 51143 Köln
STATUS:CONFIRMED
CATEGORIES:EintrittFrei,Porz
END:VEVENT
END:VCALENDAR
