BEGIN:VCALENDAR
VERSION:2.0
CALSCALE:GREGORIAN
PRODID:adamgibbons/ics
METHOD:PUBLISH
X-PUBLISHED-TTL:PT1H
BEGIN:VEVENT
UID:691@event.cologne
SUMMARY:Dokumentarfilm: Lesbians Free Everyone – The Beijing Retrospective
DTSTAMP:20260420T200208Z
DTSTART:20260425T160000Z
DTEND:20260425T180000Z
URL:https://event.cologne/event/dokumentarfilm-lesbians-free-everyone-the-b
	eijing-retrospective
LOCATION:Filmhaus Köln - Maybachstraße 111\, 50670 Köln
STATUS:CONFIRMED
CATEGORIES:Film,Innenstadt
END:VEVENT
BEGIN:VEVENT
UID:718@event.cologne
SUMMARY:Film Manok – Lesbische Komödie aus Südkorea
DTSTAMP:20260420T200208Z
DTSTART:20260425T183000Z
DTEND:20260425T210000Z
URL:https://event.cologne/event/film-manok-lesbische-komodie-aus-sudkorea
LOCATION:Filmhaus Köln - Maybachstraße 111\, 50670 Köln
STATUS:CONFIRMED
CATEGORIES:Film,Innenstadt
END:VEVENT
BEGIN:VEVENT
UID:719@event.cologne
SUMMARY:Dokumentarfilm Nelly und Nadine
DTSTAMP:20260420T200208Z
DTSTART:20260429T170000Z
DTEND:20260429T190000Z
URL:https://event.cologne/event/dokumentarfilm-nelly-und-nadine
LOCATION:Filmhaus Köln - Maybachstraße 111\, 50670 Köln
STATUS:CONFIRMED
CATEGORIES:Film,Innenstadt
END:VEVENT
END:VCALENDAR
