BEGIN:VCALENDAR
VERSION:2.0
CALSCALE:GREGORIAN
PRODID:adamgibbons/ics
METHOD:PUBLISH
X-PUBLISHED-TTL:PT1H
BEGIN:VEVENT
UID:642@event.cologne
SUMMARY:Schätze aus dem Archiv – Dokumente und Erzählungen zu lesbischer Ge
	schichte
DTSTAMP:20260420T181452Z
DTSTART:20260424T160000Z
DTEND:20260424T180000Z
URL:https://event.cologne/event/schatze-aus-dem-archiv-dokumente-und-erzahl
	ungen-zu-lesbischer-geschichte
LOCATION:Kölner Frauengeschichtsverein e. V. - Höninger Weg  100 A\, 50969 
	Köln
STATUS:CONFIRMED
CATEGORIES:Ausstellung,EintrittFrei,Rodenkirchen
END:VEVENT
END:VCALENDAR
