BEGIN:VCALENDAR
VERSION:2.0
CALSCALE:GREGORIAN
PRODID:adamgibbons/ics
METHOD:PUBLISH
X-PUBLISHED-TTL:PT1H
BEGIN:VEVENT
UID:486@event.cologne
SUMMARY:Wahner-Heide-Tag
DTSTAMP:20260420T181455Z
DTSTART:20260501T090000Z
DTEND:20260501T150000Z
URL:https://event.cologne/event/wahner-heide-tag
GEO:50.8963;7.09706
LOCATION:Gut Leidenhausen - Gut Leidenhausen 1a \,  51147 Köln
STATUS:CONFIRMED
CATEGORIES:Porz
END:VEVENT
END:VCALENDAR
