BEGIN:VCALENDAR
VERSION:2.0
CALSCALE:GREGORIAN
PRODID:adamgibbons/ics
METHOD:PUBLISH
X-PUBLISHED-TTL:PT1H
BEGIN:VEVENT
UID:469@event.cologne
SUMMARY:Vortrag: Mehr als Freundinnen?
DTSTAMP:20260420T195918Z
DTSTART:20260422T170000Z
DTEND:20260422T183000Z
URL:https://event.cologne/event/vortrag-mehr-als-freundinnen
GEO:50.9242;6.93812
LOCATION:Historisches Archiv der Stadt Köln - Eifelwall 5\, 50674 Köln
STATUS:CONFIRMED
CATEGORIES:Innenstadt,Kultur
END:VEVENT
END:VCALENDAR
