BEGIN:VCALENDAR
VERSION:2.0
CALSCALE:GREGORIAN
PRODID:adamgibbons/ics
METHOD:PUBLISH
X-PUBLISHED-TTL:PT1H
BEGIN:VEVENT
UID:568@event.cologne
SUMMARY:Bastelbar
DTSTAMP:20260420T163509Z
DTSTART:20260421T143000Z
DTEND:20260421T160000Z
URL:https://event.cologne/event/bastelbar-1
LOCATION:Stadtteilbibliothek Mülheim - Wiener Platz 2a\, 51065 Köln
STATUS:CONFIRMED
CATEGORIES:EintrittFrei,Mülheim
END:VEVENT
BEGIN:VEVENT
UID:609@event.cologne
SUMMARY:Engagiert in Köln: Fit für das Ehrenamt
DTSTAMP:20260420T163509Z
DTSTART:20260422T080000Z
DTEND:20260422T100000Z
URL:https://event.cologne/event/engagiert-in-koln-fit-fur-das-ehrenamt
LOCATION:VHS im Bezirksrathaus Mülheim - Wiener Platz 2a\, 51065 Köln
STATUS:CONFIRMED
CATEGORIES:Mülheim,Vortrag
END:VEVENT
BEGIN:VEVENT
UID:479@event.cologne
SUMMARY:Offene Sprechstunde zum Datenschutz in der Schule
DTSTAMP:20260420T163509Z
DTSTART:20260427T130000Z
DTEND:20260427T140000Z
URL:https://event.cologne/event/offene-sprechstunde-zum-datenschutz-in-der-
	schule
LOCATION:KOMEZ – Kommunales Medienzentrum Köln - Peter-Huppertz-Straße 7 \,
	 51063 Köln
STATUS:CONFIRMED
CATEGORIES:EintrittFrei,Mülheim
END:VEVENT
BEGIN:VEVENT
UID:440@event.cologne
SUMMARY:Vorlesezeit
DTSTAMP:20260420T163509Z
DTSTART:20260427T140000Z
DTEND:20260427T150000Z
URL:https://event.cologne/event/vorlesezeit-16
LOCATION:Stadtteilbibliothek Mülheim - Wiener Platz 2a\, 51065 Köln
STATUS:CONFIRMED
CATEGORIES:EintrittFrei,Lesung,Mülheim
END:VEVENT
BEGIN:VEVENT
UID:470@event.cologne
SUMMARY:Match nach Mittag
DTSTAMP:20260420T163509Z
DTSTART:20260430T143000Z
DTEND:20260430T160000Z
URL:https://event.cologne/event/match-nach-mittag-1
LOCATION:Stadtteilbibliothek Mülheim - Wiener Platz 2a\, 51065 Köln
STATUS:CONFIRMED
CATEGORIES:EintrittFrei,Mülheim,Sport
END:VEVENT
BEGIN:VEVENT
UID:551@event.cologne
SUMMARY:Vorlesezeit auf Türkisch
DTSTAMP:20260420T163509Z
DTSTART:20260503T220000Z
DTEND:20260503T220000Z
URL:https://event.cologne/event/vorlesezeit-auf-turkisch-1
LOCATION:Stadtteilbibliothek Mülheim - Wiener Platz 2a\, 51065 Köln
STATUS:CONFIRMED
CATEGORIES:Lesung,Mülheim
END:VEVENT
BEGIN:VEVENT
UID:565@event.cologne
SUMMARY:Das verlorene Schwert
DTSTAMP:20260420T163509Z
DTSTART:20260505T130000Z
DTEND:20260505T160000Z
URL:https://event.cologne/event/das-verlorene-schwert-1
LOCATION:Stadtteilbibliothek Mülheim - Wiener Platz 2a\, 51065 Köln
STATUS:CONFIRMED
CATEGORIES:EintrittFrei,Mülheim,Sport
END:VEVENT
BEGIN:VEVENT
UID:581@event.cologne
SUMMARY:MINT-Kreativzeit
DTSTAMP:20260420T163509Z
DTSTART:20260509T090000Z
DTEND:20260509T100000Z
URL:https://event.cologne/event/mint-kreativzeit-2
LOCATION:Stadtteilbibliothek Mülheim - Wiener Platz 2a\, 51065 Köln
STATUS:CONFIRMED
CATEGORIES:EintrittFrei,Mülheim
END:VEVENT
BEGIN:VEVENT
UID:505@event.cologne
SUMMARY:Kreativwerkstatt Digital Making Place – ausprobieren\, inspirieren\
	, Schule neu entdecken – Fokus: Bildung für nachhaltige Entwicklung
DTSTAMP:20260420T163509Z
DTSTART:20260511T103000Z
DTEND:20260511T143000Z
URL:https://event.cologne/event/kreativwerkstatt-digital-making-place-auspr
	obieren-inspirieren-schule-neu-entdecken-fokus-bildung-fur-nachhaltige-ent
	wicklung
LOCATION:KOMEZ – Kommunales Medienzentrum Köln - Peter-Huppertz-Straße 7 \,
	 51063 Köln
STATUS:CONFIRMED
CATEGORIES:EintrittFrei,Mülheim
END:VEVENT
BEGIN:VEVENT
UID:556@event.cologne
SUMMARY:Vorlesezeit
DTSTAMP:20260420T163509Z
DTSTART:20260511T140000Z
DTEND:20260511T150000Z
URL:https://event.cologne/event/vorlesezeit-19
LOCATION:Stadtteilbibliothek Mülheim - Wiener Platz 2a\, 51065 Köln
STATUS:CONFIRMED
CATEGORIES:EintrittFrei,Lesung,Mülheim
END:VEVENT
BEGIN:VEVENT
UID:603@event.cologne
SUMMARY:Reingelegt und abgezockt!
DTSTAMP:20260420T163509Z
DTSTART:20260519T120000Z
DTEND:20260519T130000Z
URL:https://event.cologne/event/reingelegt-und-abgezockt-2
LOCATION:VHS im Bezirksrathaus Mülheim - Wiener Platz 2a\, 51065 Köln
STATUS:CONFIRMED
CATEGORIES:Mülheim,Theater
END:VEVENT
BEGIN:VEVENT
UID:623@event.cologne
SUMMARY:Bastelbar
DTSTAMP:20260420T163509Z
DTSTART:20260519T143000Z
DTEND:20260519T160000Z
URL:https://event.cologne/event/bastelbar-2
LOCATION:Stadtteilbibliothek Mülheim - Wiener Platz 2a\, 51065 Köln
STATUS:CONFIRMED
CATEGORIES:EintrittFrei,Mülheim
END:VEVENT
BEGIN:VEVENT
UID:667@event.cologne
SUMMARY:Repair Café
DTSTAMP:20260420T163509Z
DTSTART:20260521T140000Z
DTEND:20260521T163000Z
URL:https://event.cologne/event/repair-cafe-1
LOCATION:Stadtteilbibliothek Mülheim - Wiener Platz 2a\, 51065 Köln
STATUS:CONFIRMED
CATEGORIES:EintrittFrei,Mülheim
END:VEVENT
BEGIN:VEVENT
UID:705@event.cologne
SUMMARY:Match nach Mittag
DTSTAMP:20260420T163509Z
DTSTART:20260528T143000Z
DTEND:20260528T160000Z
URL:https://event.cologne/event/match-nach-mittag-2
LOCATION:Stadtteilbibliothek Mülheim - Wiener Platz 2a\, 51065 Köln
STATUS:CONFIRMED
CATEGORIES:EintrittFrei,Mülheim,Sport
END:VEVENT
BEGIN:VEVENT
UID:721@event.cologne
SUMMARY:Vorlesezeit auf Türkisch
DTSTAMP:20260420T163509Z
DTSTART:20260531T220000Z
DTEND:20260531T220000Z
URL:https://event.cologne/event/vorlesezeit-auf-turkisch-2
LOCATION:Stadtteilbibliothek Mülheim - Wiener Platz 2a\, 51065 Köln
STATUS:CONFIRMED
CATEGORIES:Lesung,Mülheim
END:VEVENT
BEGIN:VEVENT
UID:726@event.cologne
SUMMARY:Touch Panel Workshop
DTSTAMP:20260420T163509Z
DTSTART:20260603T110000Z
DTEND:20260603T130000Z
URL:https://event.cologne/event/touch-panel-workshop
LOCATION:KOMEZ – Kommunales Medienzentrum Köln - Peter-Huppertz-Straße 7 \,
	 51063 Köln
STATUS:CONFIRMED
CATEGORIES:EintrittFrei,Mülheim
END:VEVENT
END:VCALENDAR
