BEGIN:VCALENDAR
VERSION:2.0
CALSCALE:GREGORIAN
PRODID:adamgibbons/ics
METHOD:PUBLISH
X-PUBLISHED-TTL:PT1H
BEGIN:VEVENT
UID:289@event.cologne
SUMMARY:Kreativ-Tag
DTSTAMP:20260420T163449Z
DTSTART:20260423T140000Z
DTEND:20260423T160000Z
URL:https://event.cologne/event/kreativ-tag-1
LOCATION:Stadtteilbibliothek Porz - Alfred-Moritz-Platz 1\, 51143 Köln
STATUS:CONFIRMED
CATEGORIES:EintrittFrei,Familie,Porz
END:VEVENT
BEGIN:VEVENT
UID:158@event.cologne
SUMMARY:Informationsveranstaltung Kindertagespflege
DTSTAMP:20260420T163449Z
DTSTART:20260423T153000Z
DTEND:20260423T170000Z
URL:https://event.cologne/event/informationsveranstaltung-kindertagespflege
LOCATION:Stadtteilbibliothek Sülz - Wichterichstraße 1\, 50937 Köln
STATUS:CONFIRMED
CATEGORIES:EintrittFrei,Familie,Lindenthal
END:VEVENT
BEGIN:VEVENT
UID:290@event.cologne
SUMMARY:Neue Tricks für NAO
DTSTAMP:20260420T163449Z
DTSTART:20260425T083000Z
DTEND:20260425T113000Z
URL:https://event.cologne/event/neue-tricks-fur-nao
LOCATION:Interim Zentralbibliothek - Hohe Straße 68-82\, 50667 Köln
STATUS:CONFIRMED
CATEGORIES:EintrittFrei,Familie,Innenstadt
END:VEVENT
BEGIN:VEVENT
UID:467@event.cologne
SUMMARY:Offener Puzzle-Treff
DTSTAMP:20260420T163449Z
DTSTART:20260426T120000Z
DTEND:20260426T160000Z
URL:https://event.cologne/event/offener-puzzle-treff
LOCATION:Interim Zentralbibliothek - Hohe Straße 68-82\, 50667 Köln
STATUS:CONFIRMED
CATEGORIES:EintrittFrei,Familie,Innenstadt
END:VEVENT
BEGIN:VEVENT
UID:561@event.cologne
SUMMARY:Bücherbabys – die literarische Krabbelgruppe
DTSTAMP:20260420T163449Z
DTSTART:20260507T090000Z
DTEND:20260507T100000Z
URL:https://event.cologne/event/bucherbabys-die-literarische-krabbelgruppe-
	19
LOCATION:Stadtteilbibliothek Nippes - Neusser Straße 450\, 50733 Köln
STATUS:CONFIRMED
CATEGORIES:EintrittFrei,Familie,Nippes
END:VEVENT
BEGIN:VEVENT
UID:562@event.cologne
SUMMARY:Götter in Verbindung mit den Bäumen
DTSTAMP:20260420T163449Z
DTSTART:20260510T170000Z
DTEND:20260510T200000Z
URL:https://event.cologne/event/gotter-in-verbindung-mit-den-baumen
LOCATION:Flora und Botanischer Garten - Alter Stammheimer Weg (Haupteingang
	) \, 50735 Köln
STATUS:CONFIRMED
CATEGORIES:Familie,Nippes
END:VEVENT
BEGIN:VEVENT
UID:563@event.cologne
SUMMARY:DFB-Pokalfinale der Frauen
DTSTAMP:20260420T163449Z
DTSTART:20260514T170000Z
DTEND:20260514T200000Z
URL:https://event.cologne/event/dfb-pokalfinale-der-frauen
LOCATION:RheinEnergieSTADION - Aachener Straße \, 50933 Köln
STATUS:CONFIRMED
CATEGORIES:Familie,Lindenthal
END:VEVENT
BEGIN:VEVENT
UID:655@event.cologne
SUMMARY:Bücherbabys – die literarische Krabbelgruppe
DTSTAMP:20260420T163449Z
DTSTART:20260521T090000Z
DTEND:20260521T100000Z
URL:https://event.cologne/event/bucherbabys-die-literarische-krabbelgruppe-
	22
LOCATION:Stadtteilbibliothek Nippes - Neusser Straße 450\, 50733 Köln
STATUS:CONFIRMED
CATEGORIES:EintrittFrei,Familie,Nippes
END:VEVENT
BEGIN:VEVENT
UID:656@event.cologne
SUMMARY:Kreativ-Tag
DTSTAMP:20260420T163449Z
DTSTART:20260521T143000Z
DTEND:20260521T160000Z
URL:https://event.cologne/event/kreativ-tag-2
LOCATION:Stadtteilbibliothek Porz - Alfred-Moritz-Platz 1\, 51143 Köln
STATUS:CONFIRMED
CATEGORIES:EintrittFrei,Familie,Porz
END:VEVENT
BEGIN:VEVENT
UID:657@event.cologne
SUMMARY:ChatGPT & Co für Neugierige
DTSTAMP:20260420T163449Z
DTSTART:20260522T140000Z
DTEND:20260522T153000Z
URL:https://event.cologne/event/chatgpt-and-co-fur-neugierige-3
LOCATION:Interim Zentralbibliothek - Hohe Straße 68-82\, 50667 Köln
STATUS:CONFIRMED
CATEGORIES:EintrittFrei,Familie,Innenstadt
END:VEVENT
END:VCALENDAR
