BEGIN:VCALENDAR
VERSION:2.0
CALSCALE:GREGORIAN
PRODID:adamgibbons/ics
METHOD:PUBLISH
X-PUBLISHED-TTL:PT1H
BEGIN:VEVENT
UID:285@event.cologne
SUMMARY:Zeigt her eure Roboter!
DTSTAMP:20260420T181543Z
DTSTART:20260409T140000Z
DTEND:20260409T163000Z
DESCRIPTION:Porz\, EintrittFrei\n\nWir zeigen euch unser Angebot an Roboter
	n. Im Rahmen unseres Programms Maker\nKids in den Osterferien. In der Stad
	tteilbibliothek Porz.\n\n16 bis 18:30 Uhr\n\nDie Teilnahme ist kostenlos.
URL:https://event.cologne/event/zeigt-her-eure-roboter
GEO:50.885;7.05522
LOCATION:Stadtteilbibliothek Porz - Alfred-Moritz-Platz 1\, 51143 Köln
STATUS:CONFIRMED
CATEGORIES:EintrittFrei,Familie,Porz
X-ALT-DESC;FMTTYPE=text/html:<p><strong>Porz, EintrittFrei</strong></p><p>W
	ir zeigen euch unser Angebot an Robotern. Im Rahmen unseres Programms Make
	r Kids in den Osterferien. In der Stadtteilbibliothek Porz.</p><p>16 bis 1
	8:30 Uhr</p><p>Die Teilnahme ist kostenlos.</p>
BEGIN:VALARM
ACTION:DISPLAY
DESCRIPTION:Zeigt her eure Roboter!
TRIGGER:-PT1H
END:VALARM
END:VEVENT
END:VCALENDAR
