BEGIN:VCALENDAR
VERSION:2.0
CALSCALE:GREGORIAN
PRODID:adamgibbons/ics
METHOD:PUBLISH
X-PUBLISHED-TTL:PT1H
BEGIN:VEVENT
UID:524@event.cologne
SUMMARY:Zauberflöte – für die ganze Familie – mit Erzähler
DTSTAMP:20260420T182357Z
DTSTART:20261229T140000Z
DTEND:20261229T140000Z
DESCRIPTION:Bestuhlt
URL:https://event.cologne/event/zauberflote-fur-die-ganze-familie-mit-erzah
	ler
GEO:50.9459;6.97042
LOCATION:Tanzbrunnen - Rheinparkweg 1\, 50679 Köln
STATUS:CONFIRMED
CATEGORIES:
X-ALT-DESC;FMTTYPE=text/html:<p>Bestuhlt</p>
BEGIN:VALARM
ACTION:DISPLAY
DESCRIPTION:Zauberflöte – für die ganze Familie – mit Erzähler
TRIGGER:-PT1H
END:VALARM
END:VEVENT
END:VCALENDAR
