BEGIN:VCALENDAR
VERSION:2.0
CALSCALE:GREGORIAN
PRODID:adamgibbons/ics
METHOD:PUBLISH
X-PUBLISHED-TTL:PT1H
BEGIN:VEVENT
UID:88@event.cologne
SUMMARY:Yesterday
DTSTAMP:20260420T181534Z
DTSTART:20270221T180000Z
DTEND:20270221T180000Z
DESCRIPTION:a Tribute to the Beatles performed by The London West End Beatl
	es\nBestuhlt
URL:https://event.cologne/event/yesterday
GEO:50.9459;6.97042
LOCATION:Tanzbrunnen - Rheinparkweg 1\, 50679 Köln
STATUS:CONFIRMED
CATEGORIES:
X-ALT-DESC;FMTTYPE=text/html:<p>a Tribute to the Beatles performed by The L
	ondon West End Beatles<br>Bestuhlt</p>
BEGIN:VALARM
ACTION:DISPLAY
DESCRIPTION:Yesterday
TRIGGER:-PT1H
END:VALARM
END:VEVENT
END:VCALENDAR
