BEGIN:VCALENDAR
VERSION:2.0
CALSCALE:GREGORIAN
PRODID:adamgibbons/ics
METHOD:PUBLISH
X-PUBLISHED-TTL:PT1H
BEGIN:VEVENT
UID:293@event.cologne
SUMMARY:Worringer Bruch - Wildnis in der Großstadt
DTSTAMP:20260420T182346Z
DTSTART:20260320T150000Z
DTEND:20260320T210000Z
DESCRIPTION:Chorweiler\n\nInternationaler Tag der Wälder\n\n16 Uhr\n\nDie F
	ührung ist kostenlos
URL:https://event.cologne/event/worringer-bruch-wildnis-in-der-grossstadt
LOCATION:Worringer Bruch - Senfweg/Ecke Bruchstraße \, 50769 Köln
STATUS:CONFIRMED
CATEGORIES:Chorweiler,Führung
X-ALT-DESC;FMTTYPE=text/html:<p><strong>Chorweiler</strong></p><p>Internati
	onaler Tag der Wälder</p><p>16 Uhr</p><p>Die Führung ist kostenlos</p>
BEGIN:VALARM
ACTION:DISPLAY
DESCRIPTION:Worringer Bruch - Wildnis in der Großstadt
TRIGGER:-PT1H
END:VALARM
END:VEVENT
END:VCALENDAR
