BEGIN:VCALENDAR
VERSION:2.0
CALSCALE:GREGORIAN
PRODID:adamgibbons/ics
METHOD:PUBLISH
X-PUBLISHED-TTL:PT1H
BEGIN:VEVENT
UID:277@event.cologne
SUMMARY:Workshop Digitales Zeichnen
DTSTAMP:20260420T181659Z
DTSTART:20260407T080000Z
DTEND:20260407T100000Z
DESCRIPTION:Innenstadt\, EintrittFrei\n\nEin digitaler Zeichen-Workshop zum
	 Programm TagTool\, mit dem man eine Glaswand\ngestalten kann – Im Rahmen 
	unseres Programms Maker Kids in den Osterferien im\nInterim Zentralbibliot
	hek.\n\n10 bis 12 Uhr\n\nDie Teilnahme ist kostenlos.
URL:https://event.cologne/event/workshop-digitales-zeichnen
GEO:50.9371;6.95656
LOCATION:Interim Zentralbibliothek - Hohe Straße 68-82\, 50667 Köln
STATUS:CONFIRMED
CATEGORIES:EintrittFrei,Familie,Innenstadt
X-ALT-DESC;FMTTYPE=text/html:<p><strong>Innenstadt, EintrittFrei</strong></
	p><p>Ein digitaler Zeichen-Workshop zum Programm TagTool, mit dem man eine
	 Glaswand gestalten kann – Im Rahmen unseres Programms Maker Kids in den O
	sterferien im Interim Zentralbibliothek.</p><p>10 bis 12 Uhr</p><p>Die Tei
	lnahme ist kostenlos.</p>
BEGIN:VALARM
ACTION:DISPLAY
DESCRIPTION:Workshop Digitales Zeichnen
TRIGGER:-PT1H
END:VALARM
END:VEVENT
END:VCALENDAR
