BEGIN:VCALENDAR
VERSION:2.0
CALSCALE:GREGORIAN
PRODID:adamgibbons/ics
METHOD:PUBLISH
X-PUBLISHED-TTL:PT1H
BEGIN:VEVENT
UID:767@event.cologne
SUMMARY:Workshop: Analoge Retuscheverfahren in der Fotografie
DTSTAMP:20260423T012428Z
DTSTART:20260513T150000Z
DTEND:20260513T170000Z
DESCRIPTION:In diesem Kurs erhalten Sie Einblicke in die\, meist verborgene
	n\, Arbeitsschritte\nund Techniken von der Aufnahme zum fertigen Bild in d
	er analogen Fotografie.\n\n17 bis 19 Uhr\n\nKostenfrei
URL:https://event.cologne/event/workshop-analoge-retuscheverfahren-in-der-f
	otografie
LOCATION:Historisches Archiv mit Rheinischem Bildarchiv - Eifelwall 5\, 506
	74 Köln
STATUS:CONFIRMED
CATEGORIES:Innenstadt
X-ALT-DESC;FMTTYPE=text/html:<p>In diesem Kurs erhalten Sie Einblicke in di
	e, meist verborgenen, Arbeitsschritte und Techniken von der Aufnahme zum f
	ertigen Bild in der analogen Fotografie.</p><p>17 bis 19 Uhr</p><p>Kostenf
	rei</p>
BEGIN:VALARM
ACTION:DISPLAY
DESCRIPTION:Workshop: Analoge Retuscheverfahren in der Fotografie
TRIGGER:-PT1H
END:VALARM
END:VEVENT
END:VCALENDAR
