BEGIN:VCALENDAR
VERSION:2.0
CALSCALE:GREGORIAN
PRODID:adamgibbons/ics
METHOD:PUBLISH
X-PUBLISHED-TTL:PT1H
BEGIN:VEVENT
UID:383@event.cologne
SUMMARY:Wissenschaft im Rathaus: Chemie im Alltag - Waschen wissenschaftlic
	h betrachtet
DTSTAMP:20260420T182354Z
DTSTART:20260413T170000Z
DTEND:20260413T173000Z
DESCRIPTION:Innenstadt\, EintrittFrei\n\nWie lässt sich die Haushaltswäsche
	 noch nachhaltiger gestalten?\n\nvon 18:30 bis 19:30\n\nkostenlos
URL:https://event.cologne/event/wissenschaft-im-rathaus-chemie-im-alltag-wa
	schen-wissenschaftlich-betrachtet
GEO:50.9387;6.95871
LOCATION:Rathaus - Spanischer Bau - Rathausplatz 1\, 50667 Köln
STATUS:CONFIRMED
CATEGORIES:EintrittFrei,Innenstadt
X-ALT-DESC;FMTTYPE=text/html:<p><strong>Innenstadt, EintrittFrei</strong></
	p><p>Wie lässt sich die Haushaltswäsche noch nachhaltiger gestalten?</p><p
	>von 18:30 bis 19:30</p><p>kostenlos</p>
BEGIN:VALARM
ACTION:DISPLAY
DESCRIPTION:Wissenschaft im Rathaus: Chemie im Alltag - Waschen wissenschaf
	tlich betrachtet
TRIGGER:-PT1H
END:VALARM
END:VEVENT
END:VCALENDAR
