BEGIN:VCALENDAR
VERSION:2.0
CALSCALE:GREGORIAN
PRODID:adamgibbons/ics
METHOD:PUBLISH
X-PUBLISHED-TTL:PT1H
BEGIN:VEVENT
UID:46@event.cologne
SUMMARY:„Wie alt bist du eigentlich“ mit Mariele Millowitsch + Johanna Gast
	dorf + Jan-Gregor Kremp
DTSTAMP:20260420T182401Z
DTSTART:20260503T160000Z
DTEND:20260503T160000Z
URL:https://event.cologne/event/wie-alt-bist-du-eigentlich-mit-mariele-mill
	owitsch-johanna-gastdorf-jan-gregor-kremp
GEO:50.9459;6.97042
LOCATION:Tanzbrunnen - Rheinparkweg 1\, 50679 Köln
STATUS:CONFIRMED
CATEGORIES:
BEGIN:VALARM
ACTION:DISPLAY
DESCRIPTION:„Wie alt bist du eigentlich“ mit Mariele Millowitsch + Johanna 
	Gastdorf + Jan-Gregor Kremp
TRIGGER:-PT1H
END:VALARM
END:VEVENT
END:VCALENDAR
