BEGIN:VCALENDAR
VERSION:2.0
CALSCALE:GREGORIAN
PRODID:adamgibbons/ics
METHOD:PUBLISH
X-PUBLISHED-TTL:PT1H
BEGIN:VEVENT
UID:777@event.cologne
SUMMARY:Vortrag: Lesbischer Karneval!
DTSTAMP:20260424T191109Z
DTSTART:20260511T163000Z
DTEND:20260511T180000Z
DESCRIPTION:Der lesbische Karneval in Köln kam in den 1990ern so richtig in
	 Schwung – oft\nals Antwort auf die eher männlich geprägte Rosa Sitzung.\n
	\n18:30 bis 20 Uhr\n\nEine Anmeldung ist erwünscht\, aber nicht erforderli
	ch.
URL:https://event.cologne/event/vortrag-lesbischer-karneval
GEO:50.935;6.9499
LOCATION:VHS-Studienhaus am Neumarkt - Cäcilienstraße 35\, 50667 Köln
STATUS:CONFIRMED
CATEGORIES:Innenstadt,Vortrag
X-ALT-DESC;FMTTYPE=text/html:<p>Der lesbische Karneval in Köln kam in den 1
	990ern so richtig in Schwung – oft als Antwort auf die eher männlich geprä
	gte Rosa Sitzung.</p><p>18:30 bis 20 Uhr</p><p>Eine Anmeldung ist erwünsch
	t, aber nicht erforderlich.</p>
BEGIN:VALARM
ACTION:DISPLAY
DESCRIPTION:Vortrag: Lesbischer Karneval!
TRIGGER:-PT1H
END:VALARM
END:VEVENT
END:VCALENDAR
