BEGIN:VCALENDAR
VERSION:2.0
CALSCALE:GREGORIAN
PRODID:adamgibbons/ics
METHOD:PUBLISH
X-PUBLISHED-TTL:PT1H
BEGIN:VEVENT
UID:778@event.cologne
SUMMARY:Vortrag: Kollektives Trauma in der queeren Community
DTSTAMP:20260424T191655Z
DTSTART:20260512T160000Z
DTEND:20260512T173000Z
DESCRIPTION:Kollektives Trauma in der queeren Community – Warum wir zusamme
	nkommen müssen\,\num zu heilen. Ein Abend im Rahmen der Lesbian Visibility
	 Weeks 2026.\n\n18 bis 19:30 Uhr\n\nDer Eintritt ist frei.
URL:https://event.cologne/event/vortrag-kollektives-trauma-in-der-queeren-c
	ommunity
GEO:50.935;6.9499
LOCATION:VHS-Studienhaus am Neumarkt - Cäcilienstraße 35\, 50667 Köln
STATUS:CONFIRMED
CATEGORIES:Innenstadt,Vortrag
X-ALT-DESC;FMTTYPE=text/html:<p>Kollektives Trauma in der queeren Community
	 – Warum wir zusammenkommen müssen, um zu heilen. Ein Abend im Rahmen der 
	Lesbian Visibility Weeks 2026.</p><p>18 bis 19:30 Uhr</p><p>Der Eintritt i
	st frei.</p>
BEGIN:VALARM
ACTION:DISPLAY
DESCRIPTION:Vortrag: Kollektives Trauma in der queeren Community
TRIGGER:-PT1H
END:VALARM
END:VEVENT
END:VCALENDAR
