BEGIN:VCALENDAR
VERSION:2.0
CALSCALE:GREGORIAN
PRODID:adamgibbons/ics
METHOD:PUBLISH
X-PUBLISHED-TTL:PT1H
BEGIN:VEVENT
UID:732@event.cologne
SUMMARY:Vorlesezeit mit Bilderbüchern
DTSTAMP:20260420T181656Z
DTSTART:20260603T143000Z
DTEND:20260603T150000Z
DESCRIPTION:Bilderbuchgeschichten für Kinder ab 3 Jahren in der Stadtteilbi
	bliothek Sülz.\n\n16:30 bis 17 Uhr\n\nDie Teilnahme ist kostenlos.
URL:https://event.cologne/event/vorlesezeit-mit-bilderbuchern-2
GEO:50.9163;6.92592
LOCATION:Stadtteilbibliothek Sülz - Wichterichstraße 1\, 50937 Köln
STATUS:CONFIRMED
CATEGORIES:EintrittFrei,Lesung,Lindenthal
X-ALT-DESC;FMTTYPE=text/html:<p>Bilderbuchgeschichten für Kinder ab 3 Jahre
	n in der Stadtteilbibliothek Sülz.</p><p>16:30 bis 17 Uhr</p><p>Die Teilna
	hme ist kostenlos.</p>
BEGIN:VALARM
ACTION:DISPLAY
DESCRIPTION:Vorlesezeit mit Bilderbüchern
TRIGGER:-PT1H
END:VALARM
END:VEVENT
END:VCALENDAR
