BEGIN:VCALENDAR
VERSION:2.0
CALSCALE:GREGORIAN
PRODID:adamgibbons/ics
METHOD:PUBLISH
X-PUBLISHED-TTL:PT1H
BEGIN:VEVENT
UID:776@event.cologne
SUMMARY:Vorlesezeit
DTSTAMP:20260424T191109Z
DTSTART:20260608T140000Z
DTEND:20260608T150000Z
DESCRIPTION:Bilderbuchgeschichten für Kinder ab 3 Jahren in der Stadtteilbi
	bliothek Mülheim\n\n16 bis 17 Uhr\n\nDie Teilnahme ist kostenlos.
URL:https://event.cologne/event/vorlesezeit-25
GEO:50.961;7.00412
LOCATION:Stadtteilbibliothek Mülheim - Wiener Platz 2a\, 51065 Köln
STATUS:CONFIRMED
CATEGORIES:EintrittFrei,Lesung,Mülheim
X-ALT-DESC;FMTTYPE=text/html:<p>Bilderbuchgeschichten für Kinder ab 3 Jahre
	n in der Stadtteilbibliothek Mülheim</p><p>16 bis 17 Uhr</p><p>Die Teilnah
	me ist kostenlos.</p>
BEGIN:VALARM
ACTION:DISPLAY
DESCRIPTION:Vorlesezeit
TRIGGER:-PT1H
END:VALARM
END:VEVENT
END:VCALENDAR
