BEGIN:VCALENDAR
VERSION:2.0
CALSCALE:GREGORIAN
PRODID:adamgibbons/ics
METHOD:PUBLISH
X-PUBLISHED-TTL:PT1H
BEGIN:VEVENT
UID:744@event.cologne
SUMMARY:Vorlesezeit
DTSTAMP:20260422T100944Z
DTSTART:20260606T090000Z
DTEND:20260606T093000Z
DESCRIPTION:Bilderbuchgeschichten für Kinder ab 3 Jahren in der Stadtteilbi
	bliothek\nChorweiler.\n\n11 bis 11:30 Uhr\n\nDie Teilnahme ist kostenlos.
URL:https://event.cologne/event/vorlesezeit-24
GEO:51.0226;6.89969
LOCATION:Stadtteilbibliothek Chorweiler - Pariser Platz 1\, 50765 Köln
STATUS:CONFIRMED
CATEGORIES:Chorweiler,EintrittFrei,Lesung
X-ALT-DESC;FMTTYPE=text/html:<p>Bilderbuchgeschichten für Kinder ab 3 Jahre
	n in der Stadtteilbibliothek Chorweiler.</p><p>11 bis 11:30 Uhr</p><p>Die 
	Teilnahme ist kostenlos.</p>
BEGIN:VALARM
ACTION:DISPLAY
DESCRIPTION:Vorlesezeit
TRIGGER:-PT1H
END:VALARM
END:VEVENT
END:VCALENDAR
