BEGIN:VCALENDAR
VERSION:2.0
CALSCALE:GREGORIAN
PRODID:adamgibbons/ics
METHOD:PUBLISH
X-PUBLISHED-TTL:PT1H
BEGIN:VEVENT
UID:324@event.cologne
SUMMARY:Vorlesen mit dem Kamishibai – Erzähltheater
DTSTAMP:20260420T182342Z
DTSTART:20260317T150000Z
DTEND:20260317T160000Z
DESCRIPTION:Rodenkirchen\, EintrittFrei\n\nWir öffnen die Türen des Kamishi
	bai und lesen eine Geschichte vor – in der\nStadtteilbibliothek Rodenkirch
	en.\n\n16 bis 17 Uhr\n\nDie Teilnahme ist kostenlos.
URL:https://event.cologne/event/vorlesen-mit-dem-kamishibai-erzahltheater
GEO:50.8894;6.99171
LOCATION:Stadtteilbibliothek Rodenkirchen - Schillingsrotter Straße 38\, 50
	996 Köln
STATUS:CONFIRMED
CATEGORIES:EintrittFrei,Rodenkirchen
X-ALT-DESC;FMTTYPE=text/html:<p><strong>Rodenkirchen, EintrittFrei</strong>
	</p><p>Wir öffnen die Türen des Kamishibai und lesen eine Geschichte vor –
	 in der Stadtteilbibliothek Rodenkirchen.</p><p>16 bis 17 Uhr</p><p>Die Te
	ilnahme ist kostenlos.</p>
BEGIN:VALARM
ACTION:DISPLAY
DESCRIPTION:Vorlesen mit dem Kamishibai – Erzähltheater
TRIGGER:-PT1H
END:VALARM
END:VEVENT
END:VCALENDAR
