BEGIN:VCALENDAR
VERSION:2.0
CALSCALE:GREGORIAN
PRODID:adamgibbons/ics
METHOD:PUBLISH
X-PUBLISHED-TTL:PT1H
BEGIN:VEVENT
UID:408@event.cologne
SUMMARY:Vorlesen mit dem Kamishibai-Erzähltheater
DTSTAMP:20260420T182405Z
DTSTART:20260422T143000Z
DTEND:20260422T150000Z
DESCRIPTION:Lindenthal\, EintrittFrei\n\nWir lesen und erzählen mit dem Kam
	ishibai in der Stadtteilbibliothek Sülz.\n\n16:30 bis 17 Uhr\n\nDie Teilna
	hme ist kostenlos.
URL:https://event.cologne/event/vorlesen-mit-dem-kamishibai-erzahltheater-4
GEO:50.9163;6.92592
LOCATION:Stadtteilbibliothek Sülz - Wichterichstraße 1\, 50937 Köln
STATUS:CONFIRMED
CATEGORIES:EintrittFrei,Lindenthal
X-ALT-DESC;FMTTYPE=text/html:<p><strong>Lindenthal, EintrittFrei</strong></
	p><p>Wir lesen und erzählen mit dem Kamishibai in der Stadtteilbibliothek 
	Sülz.</p><p>16:30 bis 17 Uhr</p><p>Die Teilnahme ist kostenlos.</p>
BEGIN:VALARM
ACTION:DISPLAY
DESCRIPTION:Vorlesen mit dem Kamishibai-Erzähltheater
TRIGGER:-PT1H
END:VALARM
END:VEVENT
END:VCALENDAR
