BEGIN:VCALENDAR
VERSION:2.0
CALSCALE:GREGORIAN
PRODID:adamgibbons/ics
METHOD:PUBLISH
X-PUBLISHED-TTL:PT1H
BEGIN:VEVENT
UID:272@event.cologne
SUMMARY:Von Kräutern zur Kunst
DTSTAMP:20260420T181910Z
DTSTART:20260401T130000Z
DTEND:20260401T150000Z
DESCRIPTION:Innenstadt\, EintrittFrei\n\nEin kreativer Workshop mit und zu 
	Kräutern. Im Rahmen unseres Programms Maker\nKids in den Osterferien im In
	terim Zentralbibliothek.\n\n15 bis 17 Uhr\n\nDie Teilnahme ist kostenlos.
URL:https://event.cologne/event/von-krautern-zur-kunst
GEO:50.9371;6.95656
LOCATION:Interim Zentralbibliothek - Hohe Straße 68-82\, 50667 Köln
STATUS:CONFIRMED
CATEGORIES:EintrittFrei,Familie,Innenstadt
X-ALT-DESC;FMTTYPE=text/html:<p><strong>Innenstadt, EintrittFrei</strong></
	p><p>Ein kreativer Workshop mit und zu Kräutern. Im Rahmen unseres Program
	ms Maker Kids in den Osterferien im Interim Zentralbibliothek.</p><p>15 bi
	s 17 Uhr</p><p>Die Teilnahme ist kostenlos.</p>
BEGIN:VALARM
ACTION:DISPLAY
DESCRIPTION:Von Kräutern zur Kunst
TRIGGER:-PT1H
END:VALARM
END:VEVENT
END:VCALENDAR
