BEGIN:VCALENDAR
VERSION:2.0
CALSCALE:GREGORIAN
PRODID:adamgibbons/ics
METHOD:PUBLISH
X-PUBLISHED-TTL:PT1H
BEGIN:VEVENT
UID:756@event.cologne
SUMMARY:Vinyl-DJ-Workshop
DTSTAMP:20260422T103227Z
DTSTART:20260606T090000Z
DTEND:20260606T110000Z
DESCRIPTION:Auflegen mit Schallplatten für Neugierige. Im Rahmen unseres\nM
	akerspace-Programms in der Stadtteilbibliothek Kalk.\n\n11 bis 13 Uhr\n\nD
	ie Teilnahme ist kostenlos.
URL:https://event.cologne/event/vinyl-dj-workshop-1
GEO:50.9394;7.00844
LOCATION:Stadtteilbibliothek Kalk - Kalker Hauptstraße 247-273\, 51103 Köln
STATUS:CONFIRMED
CATEGORIES:EintrittFrei,Kalk
X-ALT-DESC;FMTTYPE=text/html:<p>Auflegen mit Schallplatten für Neugierige. 
	Im Rahmen unseres Makerspace-Programms in der Stadtteilbibliothek Kalk.</p
	><p>11 bis 13 Uhr</p><p>Die Teilnahme ist kostenlos.</p>
BEGIN:VALARM
ACTION:DISPLAY
DESCRIPTION:Vinyl-DJ-Workshop
TRIGGER:-PT1H
END:VALARM
END:VEVENT
END:VCALENDAR
