BEGIN:VCALENDAR
VERSION:2.0
CALSCALE:GREGORIAN
PRODID:adamgibbons/ics
METHOD:PUBLISH
X-PUBLISHED-TTL:PT1H
BEGIN:VEVENT
UID:307@event.cologne
SUMMARY:Versteigerung
DTSTAMP:20260420T181532Z
DTSTART:20260313T090000Z
DTEND:20260313T110000Z
DESCRIPTION:Kalk\n\nWir versteigern Fundsachen.\n\n10 bis 12 Uhr\n\nDer Ein
	tritt ist frei.
URL:https://event.cologne/event/versteigerung
GEO:50.935;7.0039
LOCATION:Fundbüro Versteigerungsraum - Dillenburger Straße 27\, 51103 Köln
STATUS:CONFIRMED
CATEGORIES:Kalk,Versteigerung
X-ALT-DESC;FMTTYPE=text/html:<p><strong>Kalk</strong></p><p>Wir versteigern
	 Fundsachen.</p><p>10 bis 12 Uhr</p><p>Der Eintritt ist frei.</p>
BEGIN:VALARM
ACTION:DISPLAY
DESCRIPTION:Versteigerung
TRIGGER:-PT1H
END:VALARM
END:VEVENT
END:VCALENDAR
