BEGIN:VCALENDAR
VERSION:2.0
CALSCALE:GREGORIAN
PRODID:adamgibbons/ics
METHOD:PUBLISH
X-PUBLISHED-TTL:PT1H
BEGIN:VEVENT
UID:258@event.cologne
SUMMARY:Veedelstreff mit dem Ordnungsamt
DTSTAMP:20260420T181852Z
DTSTART:20260320T090000Z
DTEND:20260320T120000Z
DESCRIPTION:Rodenkirchen\, EintrittFrei\n\nBürgerdialogformat bietet Ihnen 
	Austausch und Infos\n\n10 bis 13 Uhr\n\nDie Teilnahme ist kostenlos.
URL:https://event.cologne/event/veedelstreff-mit-dem-ordnungsamt
LOCATION:Wochenmarkt Sürth - Sürther Hauptstraße / Frohnhofstraße \, 50999 
	Köln
STATUS:CONFIRMED
CATEGORIES:EintrittFrei,Rodenkirchen,Wortveranstaltung
X-ALT-DESC;FMTTYPE=text/html:<p><strong>Rodenkirchen, EintrittFrei</strong>
	</p><p>Bürgerdialogformat bietet Ihnen Austausch und Infos</p><p>10 bis 13
	 Uhr</p><p>Die Teilnahme ist kostenlos.</p>
BEGIN:VALARM
ACTION:DISPLAY
DESCRIPTION:Veedelstreff mit dem Ordnungsamt
TRIGGER:-PT1H
END:VALARM
END:VEVENT
END:VCALENDAR
