BEGIN:VCALENDAR
VERSION:2.0
CALSCALE:GREGORIAN
PRODID:adamgibbons/ics
METHOD:PUBLISH
X-PUBLISHED-TTL:PT1H
BEGIN:VEVENT
UID:260@event.cologne
SUMMARY:Veedelstreff mit dem Ordnungsamt
DTSTAMP:20260420T182011Z
DTSTART:20260326T090000Z
DTEND:20260326T120000Z
DESCRIPTION:Porz\, EintrittFrei\n\nBürgerdialogformat bietet Ihnen Austausc
	h und Infos\n\n10 bis 13 Uhr\n\nDie Teilnahme ist kostenlos.
URL:https://event.cologne/event/veedelstreff-mit-dem-ordnungsamt-1
LOCATION:Wochenmarkt Porz-Urbach - Am Schwanebitzer Hof  \, 51145 Köln
STATUS:CONFIRMED
CATEGORIES:EintrittFrei,Porz,Wortveranstaltung
X-ALT-DESC;FMTTYPE=text/html:<p><strong>Porz, EintrittFrei</strong></p><p>B
	ürgerdialogformat bietet Ihnen Austausch und Infos</p><p>10 bis 13 Uhr</p>
	<p>Die Teilnahme ist kostenlos.</p>
BEGIN:VALARM
ACTION:DISPLAY
DESCRIPTION:Veedelstreff mit dem Ordnungsamt
TRIGGER:-PT1H
END:VALARM
END:VEVENT
END:VCALENDAR
