BEGIN:VCALENDAR
VERSION:2.0
CALSCALE:GREGORIAN
PRODID:adamgibbons/ics
METHOD:PUBLISH
X-PUBLISHED-TTL:PT1H
BEGIN:VEVENT
UID:683@event.cologne
SUMMARY:Tri.EXPO
DTSTAMP:20260420T181550Z
DTSTART:20260906T090000Z
DTEND:20260906T090000Z
URL:https://event.cologne/event/triexpo-1
GEO:50.9459;6.97042
LOCATION:Tanzbrunnen - Rheinparkweg 1\, 50679 Köln
STATUS:CONFIRMED
CATEGORIES:
BEGIN:VALARM
ACTION:DISPLAY
DESCRIPTION:Tri.EXPO
TRIGGER:-PT1H
END:VALARM
END:VEVENT
END:VCALENDAR
