BEGIN:VCALENDAR
VERSION:2.0
CALSCALE:GREGORIAN
PRODID:adamgibbons/ics
METHOD:PUBLISH
X-PUBLISHED-TTL:PT1H
BEGIN:VEVENT
UID:172@event.cologne
SUMMARY:Tommy Engel & Band Tommy Engel Live
DTSTAMP:20260420T182348Z
DTSTART:20260320T180000Z
DTEND:20260320T210000Z
DESCRIPTION:Chorweiler\n\nKonzert mit Kölscher Musik\n\nEinlass: 19 Uhr Beg
	inn: 20 Uhr\n\n33 Euro
URL:https://event.cologne/event/tommy-engel-and-band-tommy-engel-live
GEO:51.0224;6.8994
LOCATION:Bürgerzentrum Chorweiler - Pariser Platz 1\, 50765 Köln
STATUS:CONFIRMED
CATEGORIES:Chorweiler,Konzert
X-ALT-DESC;FMTTYPE=text/html:<p><strong>Chorweiler</strong></p><p>Konzert m
	it Kölscher Musik</p><p><strong>Einlass:</strong> 19 Uhr <strong>Beginn:</
	strong> 20 Uhr</p><p>33 Euro</p>
BEGIN:VALARM
ACTION:DISPLAY
DESCRIPTION:Tommy Engel & Band Tommy Engel Live
TRIGGER:-PT1H
END:VALARM
END:VEVENT
END:VCALENDAR
