BEGIN:VCALENDAR
VERSION:2.0
CALSCALE:GREGORIAN
PRODID:adamgibbons/ics
METHOD:PUBLISH
X-PUBLISHED-TTL:PT1H
BEGIN:VEVENT
UID:100@event.cologne
SUMMARY:Tobi Krell
DTSTAMP:20260420T181531Z
DTSTART:20260612T123000Z
DTEND:20260612T123000Z
URL:https://event.cologne/event/tobi-krell
GEO:50.9459;6.97042
LOCATION:Tanzbrunnen - Rheinparkweg 1\, 50679 Köln
STATUS:CONFIRMED
CATEGORIES:
BEGIN:VALARM
ACTION:DISPLAY
DESCRIPTION:Tobi Krell
TRIGGER:-PT1H
END:VALARM
END:VEVENT
END:VCALENDAR
